This is the mail archive of the
gcc-testresults@gcc.gnu.org
mailing list for the GCC project.
ACATS for 4.2.3 on powerpc-rtems4.9
- From: Joel Sherrill <joel dot sherrill at oarcorp dot com>
- To: <gcc-testresults at gcc dot gnu dot org>
- Date: Mon, 11 Feb 2008 08:39:48 -0600
- Subject: ACATS for 4.2.3 on powerpc-rtems4.9
==== LA14027 PASSED ============================.^M
PASS: la14027
=== acats Summary ===
# of expected passes 2309
# of unexpected failures 3
# of unsupported tests 3
*** FAILURES: c380004 c761007 c953002
,.,. C380004 ACATS 2.5 88-01-01 00:00:00^M
---- C380004 Check evaluation of discriminant expressions when the^M
constraint depends on a discriminant, and the^M
discriminants have defaults -^M
discriminant-dependententry families and protected^M
components.^M
- C380004 Discriminant-dependent entry families for task types.^M
* C380004 Unexpected exception raised - 2.^M
* C380004 Discriminant values not correct - 3.^M
Exception handler called for exception 3 (0x3)
Next PC or Address of fault = 0000B630
Saved MSR = 0000A072
R0 = 80000008 R1 = 00703578 R2 = 00000000 R3 = 0000000B
R4 = 00000001 R5 = 00000000 R6 = 00000006 R7 = 00703250
R8 = 00703AF0 R9 = 00000000 R10 = 00074848 R11 = 00703590
R12 = 80703598 R13 = 0006E840 R14 = 00000000 R15 = 00000000
R16 = 00000000 R17 = 00000000 R18 = 00000000 R19 = 00000000
R20 = 00000000 R21 = 00000000 R22 = 00000000 R23 = 00000000
R24 = 00000000 R25 = 00000000 R26 = 00000000 R27 = 00000000
R28 = 00000000 R29 = 00065884 R30 = 00703618 R31 = 00703598
CR = 40000028
CTR = 0001806C
,.,. C761007 ACATS 2.5 88-01-01 00:00:00^M
---- C761007 Check that if a finalize procedure invoked by a transfer of^M
control or selection of a terminate alternative attempts^M
to propagate an exception, the exception is ignored, but^M
any other finalizations due to be performed are^M
performed.^M
/home/joel/work-gnat/423/gcc-4.2.3/gcc/testsuite/ada/acats/work-psim/tests/c7/c761007/c761007
killed after running 180 seconds
,.,. C953002 ACATS 2.5 88-01-01 00:00:00^M
---- C953002 Check that the servicing of entry queues handles all open^M
entries as part of a single protected operation.^M
/home/joel/work-gnat/423/gcc-4.2.3/gcc/testsuite/ada/acats/work-psim/tests/c9/c953002/c953002
killed after running 180 seconds