This is the mail archive of the gcc-testresults@gcc.gnu.org mailing list for the GCC project.


Index Nav: [Date Index] [Subject Index] [Author Index] [Thread Index]
Message Nav: [Date Prev] [Date Next] [Thread Prev] [Thread Next]
Other format: [Raw text]

ACATS for 4.3.0 20080209 (experimental) [trunk revision 132202] on i386-rtems4.9


Run on qemu as a vanilla i386 with FPU.  Many failures ended
like this:

---- A85013B CHECK THAT A SUBPROGRAM CAN BE RENAMED WITHIN ITS OWN BODY
               AND THAT THE NEW NAME CAN BE USED IN A RENAMING
               DECLARATION.
----------------------------------------------------------
Exception 6 caught at PC 4C by thread 184614915
----------------------------------------------------------
Processor execution context at time of the fault was  :
----------------------------------------------------------
EAX = 16FEAF EBX = 15F7F0    ECX = 16FF05    EDX = 16FEC8
ESI = 4      EDI = 4 EBP = 21F700    ESP = 16FC8C
----------------------------------------------------------
Error code pushed by processor itself (if not 0) = 0
----------------------------------------------------------

I have not investigated but suspect something like an instruction
not available on i386 generated, stack alignment, or stack overflow.
It is clean that the exception didn't actually occur at address 0x4C
so there is something wrong with the RTEMS exception handler on
this Board Support Package which also needs investigating.

=== acats Summary ===
# of expected passes 2008
# of unexpected failures 304
# of unsupported tests 3
*** FAILURES: a85013b a87b59a a95001c a99006a aa2010a ac3207a ad7006a c250002 c34007j c34008a c35102a c37213b c37402a c37403a c380004 c38102d c39008a c39008b c39008c c3a1002 c41306a c41306b c41306c c41307d c43204g c45282b c45291a c52102b c54a13c c54a24a c59002c c64109e c64109l c64201b c64201c c74004a c74203a c74207b c74306a c74401k c74406a c761001 c761007 c761012 c83023a c83025c c83031e c83033a c83f03a c85004b c85005a c85005b c85005c c85005d c85005e c85006a c85006b c85006c c85006d c85006e c85014a c85014b c85014c c85018a c85018b c87b45c c910001 c910002 c910003 c91004b c91004c c92003a c92006a c930001 c93002a c93003a c93004a c93004b c93004c c93004d c93004f c93005c c93005d c93005e c93005f c93005g c93005h c93006a c93007a c93008a c93008b c940001 c940002 c940004 c940005 c940007 c940010 c940012 c940013 c940014 c940016 c94001a c94001b c94001c c94001g c94002a c94002b c94002d c94002e c94002f c94002g c94004a c94004b c94004c c94005a c94005b c94006a c94007a c94007b c94008c c94008d c94010a c94011a c940a03 c95008a c95009a c95010a c95011a c95012a c95022a c95022b c95033a c95033b c95034a c95034b c95035a c95040a c95040b c95040d c95041a c95066a c95067a c95071a c95072a c95072b c95073a c95074c c95076a c95078a c95080b c95082g c95085a c95085c c95085h c95085i c95085j c95085k c95085l c95085m c95085n c95085o c95086a c95086b c95086c c95086d c95086e c95086f c95087a c95087b c95087c c95087d c95088a c95089a c95090a c95092a c95093a c95095a c95095b c95095c c95095d c95095e c951002 c953001 c953002 c953003 c954001 c954010 c954011 c954012 c954013 c954014 c954015 c954016 c954017 c954018 c954020 c954021 c954023 c954024 c954025 c954026 c954a01 c954a02 c954a03 c960001 c960002 c960004 c97112a c97113a c97114a c97115a c97116a c97117b c97117c c97118a c97120a c97120b c97201a c97201b c97201c c97201d c97201e c97201g c97201h c97201x c97202a c97203a c97203b c97203c c97204a c97205a c97205b c97301a c97301c c97301d c97301e c97302a c97303a c97303b c97303c c97304a c97305a c97305b c97305c c97305d c974001 c974002 c974003 c974004 c974005 c974008 c974009 c974010 c974013 c9a009a c9a009f c9a009g c9a010a c9a011a c9a011b ca5004a cb20001 cb4013a cb41002 cb5001a cb5001b cb5002a cc1104c cc1207b cc1225a cc1310a cc3019c cc3106b cc3120b cc3207b cc3225a cc3602a cd1009t cd2a91c cd2c11a cd5003e cd5014c cd72a02 cxg2002 cxg2003 cxg2004 cxg2006 cxg2007 cxg2010 cxg2011 cxg2012 cxg2013 cxg2014 cxg2015 cxg2016 cxg2017 cxg2018 cxg2019 cxg2020 cxg2021 cxh3001 cxh3002 cxh3003 la14027



Index Nav: [Date Index] [Subject Index] [Author Index] [Thread Index]
Message Nav: [Date Prev] [Date Next] [Thread Prev] [Thread Next]