Results for 20241004 master r15-4062-g67b750c20e1f94 (GCC) testsuite on powerpc64le-unknown-linux-gnu

Gaius Mulley gaiusmod2@gmail.com
Fri Oct 4 12:04:57 GMT 2024


$ ../configure --prefix=/home/gaius/opt --libexecdir=/home/gaius/opt/lib --enable-host-shared --enable-threads=posix --enable-clocale=gnu --enable-checking --enable-long-longx --enable-languages=m2 --with-long-double-format=ieee --disable-multilib --enable-plugin --enable-bootstrap

gcc-branch: master
git commit 67b750c20e1f9428ef89a6fed0103e912bea8679

Linux 5.14.0-427.31.1.el9_4.ppc64le #1 SMP Thu Aug 15 11:21:31 PDT 2024 ppc64le ppc64le GNU/Linux
GNU ld version 2.35.2-43.el9
GNU assembler version 2.35.2-43.el9
GNU Make 4.3
Test run by gaius on Fri Oct  4 12:02:58 2024
Native configuration is powerpc64le-unknown-linux-gnu

		=== gm2 tests ===

Schedule of variations:
    unix


		=== gm2 Summary ===

# of expected passes		14252


More information about the Gcc-testresults mailing list