Results for gcc gm2 testsuite on x86_64-pc-linux-gnu
Gaius Mulley
gaiusmod2@gmail.com
Wed Jun 29 14:40:00 GMT 2022
gcc-branch: devel/modula-2
git commit 1f157869bad13cdd3847531959c93194ab8d3754
Linux 5.10.0-11-amd64 #1 SMP Debian 5.10.92-1 (2022-01-18) x86_64 unknown GNU/Linux
GNU ld (GNU Binutils for Debian) 2.35.2
GNU assembler (GNU Binutils for Debian) 2.35.2
GNU Make 4.3
GNU dejagnu: 1.6.2-1
GNU g++: 10.2.1-6
10.2.1-6
GNU libc: 2.31-13+deb11u2
Native configuration is x86_64-pc-linux-gnu
=== gm2 tests ===
Running target unix
=== gm2 Summary ===
# of expected passes 11712
Compiler version: gcc gm2
Platform: x86_64-pc-linux-gnu
configure flags: --prefix=/home/gaius/opt --libexecdir=/home/gaius/opt/lib --enable-threads=posix --enable-clocale=gnu --enable-languages=m2 --enable-multilib --enable-checking --enable-long-longx --enable-bootstrap --with-build-config=bootstrap-Og
More information about the Gcc-testresults
mailing list