Results for 10.3.1 (DEFMODE=default DEFARCH=default DEFCPU=default DEFFPU=default TESTFLAGS=-mthumb/-mcpu=cortex-m33/-mfloat-abi=hard/-march=armv8-m.m ain+fp+dsp) [r10-10417] (GCC) testsuite on arm-none-eabi
Christophe LYON
christophe.lyon@foss.st.com
Tue Jan 25 03:39:30 GMT 2022
LAST_UPDATED: Tue Jan 25 02:44:07 UTC 2022 (revision r10-10417-ga123a1d2d82ab9dc050400a197f636b878296a84) TARGET=arm-none-eabi ARCH=default CPU=default FPU=default MODE=default
Target is arm-none-eabi
Host is arm-none-eabi
=== libstdc++ tests ===
Running target myarm-sim/-mthumb/-mcpu=cortex-m33/-mfloat-abi=hard/-march=armv8-m.main+fp+dsp/--specs=musca-b1.specs
=== libstdc++ Summary ===
Host is x86_64-pc-linux-gnu
=== gcc tests ===
Running target myarm-sim/-mthumb/-mcpu=cortex-m33/-mfloat-abi=hard/-march=armv8-m.main+fp+dsp/--specs=musca-b1.specs
=== gcc Summary ===
# of expected passes 525
/tmp/7057010_37.tmpdir/aci-gcc-fsf/builds/gcc-fsf-gccsrc/obj-arm-none-eabi/gcc3/gcc/xgcc version 10.3.1 (DEFMODE=default DEFARCH=default DEFCPU=default DEFFPU=default TESTFLAGS=-mthumb/-mcpu=cortex-m33/-mfloat-abi=hard/-march=armv8-m.main+fp+dsp) [r10-10417] (GCC)
Host is x86_64-pc-linux-gnu
=== g++ tests ===
Running target myarm-sim/-mthumb/-mcpu=cortex-m33/-mfloat-abi=hard/-march=armv8-m.main+fp+dsp/--specs=musca-b1.specs
=== g++ Summary ===
/tmp/7057010_37.tmpdir/aci-gcc-fsf/builds/gcc-fsf-gccsrc/obj-arm-none-eabi/gcc3/gcc/xg++ version 10.3.1 (DEFMODE=default DEFARCH=default DEFCPU=default DEFFPU=default TESTFLAGS=-mthumb/-mcpu=cortex-m33/-mfloat-abi=hard/-march=armv8-m.main+fp+dsp) [r10-10417] (GCC)
Compiler version: 10.3.1 (DEFMODE=default DEFARCH=default DEFCPU=default DEFFPU=default TESTFLAGS=-mthumb/-mcpu=cortex-m33/-mfloat-abi=hard/-march=armv8-m.main+fp+dsp) [r10-10417] (GCC)
Platform: arm-none-eabi
configure flags: --target=arm-none-eabi --prefix=/tmp/7057010_37.tmpdir/aci-gcc-fsf/builds/gcc-fsf-gccsrc/tools --with-sysroot=/tmp/7057010_37.tmpdir/aci-gcc-fsf/builds/gcc-fsf-gccsrc/sysroot-arm-none-eabi --disable-nls --disable-libgomp --disable-libmudflap --disable-libcilkrts --enable-checking --enable-languages=c,c++ --with-newlib --disable-tls --enable-multilib --with-multilib-list=rmprofile
More information about the Gcc-testresults
mailing list