Results for 10.0.1 20200420 (experimental) (GCC) testsuite on x86_64-pc-linux-gnu
Shrisha Rao
shrao@alumni.cmu.edu
Wed Apr 22 07:26:04 GMT 2020
These results are as compiled on an EC2 instance from the Git source.
Native configuration is x86_64-pc-linux-gnu
=== gcc tests ===
Running target unix
=== gcc Summary ===
# of expected passes 148933
# of expected failures 687
# of unsupported tests 2255
/home/ec2-user/tmp/gcctemp/gcc/xgcc version 10.0.1 20200420 (experimental) (GCC)
=== gfortran tests ===
Running target unix
=== gfortran Summary ===
# of expected passes 53792
# of expected failures 179
# of unsupported tests 96
/home/ec2-user/tmp/gcctemp/gcc/testsuite/gfortran/../../gfortran version 10.0.1 20200420 (experimental) (GCC)
=== g++ tests ===
Running target unix
=== g++ Summary ===
# of expected passes 191623
# of expected failures 719
# of unsupported tests 7825
/home/ec2-user/tmp/gcctemp/gcc/testsuite/g++/../../xg++ version 10.0.1 20200420 (experimental) (GCC)
=== objc tests ===
Running target unix
=== objc Summary ===
# of expected passes 2778
# of expected failures 6
# of unsupported tests 68
/home/ec2-user/tmp/gcctemp/gcc/xgcc version 10.0.1 20200420 (experimental) (GCC)
=== libatomic tests ===
Running target unix
=== libatomic Summary ===
# of expected passes 54
=== libgomp tests ===
Running target unix
=== libgomp Summary ===
# of expected passes 7681
# of expected failures 2
# of unsupported tests 451
=== libitm tests ===
Running target unix
=== libitm Summary ===
# of expected passes 42
# of expected failures 3
# of unsupported tests 1
=== libstdc++ tests ===
Running target unix
=== libstdc++ Summary ===
# of expected passes 14170
# of expected failures 93
# of unsupported tests 342
Compiler version: 10.0.1 20200420 (experimental) (GCC)
Platform: x86_64-pc-linux-gnu
configure flags: --disable-multilib --prefix=/shrao/testgcc
More information about the Gcc-testresults
mailing list