Results for 10.0.0 20190820 (experimental) (GCC) testsuite on x86_64-unknown-cygwin
JonY
10walls@gmail.com
Sun Aug 25 23:47:00 GMT 2019
=== g++ Summary ===
# of expected passes 127249
# of unexpected failures 702
# of unexpected successes 3
# of expected failures 531
# of unresolved testcases 27
# of unsupported tests 6361
=== gcc Summary ===
# of expected passes 136285
# of unexpected failures 1264
# of unexpected successes 36
# of expected failures 599
# of unresolved testcases 375
# of unsupported tests 2583
=== libgomp Summary ===
# of expected passes 2545
# of unexpected failures 8
# of expected failures 4
# of unsupported tests 212
=== libstdc++ Summary ===
# of expected passes 12838
# of unexpected failures 249
# of unexpected successes 1
# of expected failures 80
# of unsupported tests 734
-------------- next part --------------
A non-text attachment was scrubbed...
Name: summary.log
Type: text/x-log
Size: 217737 bytes
Desc: not available
URL: <http://gcc.gnu.org/pipermail/gcc-testresults/attachments/20190825/797fb838/attachment.bin>
-------------- next part --------------
A non-text attachment was scrubbed...
Name: signature.asc
Type: application/pgp-signature
Size: 833 bytes
Desc: OpenPGP digital signature
URL: <http://gcc.gnu.org/pipermail/gcc-testresults/attachments/20190825/797fb838/attachment.sig>
More information about the Gcc-testresults
mailing list