Results for 7.2.1 20170907 [gcc-7-branch revision 251847] (GCC) testsuite on powerpc64le-unknown-linux-gnu
Bill Seurer (POWER8)
seurer@linux.vnet.ibm.com
Thu Sep 7 22:05:00 GMT 2017
Linux 3.13.0-35-generic ppc64le
GNU C Library (Ubuntu EGLIBC 2.19-0ubuntu6.13) stable release version 2.19
GNU ld (GNU Binutils) 2.26.20160125
GNU assembler (GNU Binutils) 2.26.20160125
GNU Make 3.81
DejaGnu:
Expect version is 5.45
Tcl version is 8.6
Framework version is 1.5
64-bit
LAST_UPDATED: Thu Sep 7 19:04:18 UTC 2017 (revision 251847)
Native configuration is powerpc64le-unknown-linux-gnu
=== g++ tests ===
Running target unix
=== g++ Summary ===
# of expected passes 20708
# of expected failures 43
# of unsupported tests 1718
/home/gccbuild/build/nightly/build-gcc-7/gcc/testsuite/g++1/../../xg++ version 7.2.1 20170907 [gcc-7-branch revision 251847] (GCC)
=== gcc tests ===
Running target unix
=== gcc Summary ===
# of expected passes 11211
# of unsupported tests 71
/home/gccbuild/build/nightly/build-gcc-7/gcc/xgcc version 7.2.1 20170907 [gcc-7-branch revision 251847] (GCC)
=== gfortran tests ===
Running target unix
=== gfortran Summary ===
# of expected passes 14053
# of expected failures 50
# of unsupported tests 35
/home/gccbuild/build/nightly/build-gcc-7/gcc/testsuite/gfortran/../../gfortran version 7.2.1 20170907 [gcc-7-branch revision 251847] (GCC)
=== g++ tests ===
Running target unix
=== g++ Summary ===
# of expected passes 19479
# of expected failures 21
# of unsupported tests 1966
/home/gccbuild/build/nightly/build-gcc-7/gcc/testsuite/g++/../../xg++ version 7.2.1 20170907 [gcc-7-branch revision 251847] (GCC)
=== libffi tests ===
Running target unix
=== libffi Summary ===
# of expected passes 1934
# of unsupported tests 28
=== libstdc++ tests ===
Running target unix
=== libstdc++ Summary ===
# of expected passes 2128
# of expected failures 1
# of unsupported tests 2
Compiler version: 7.2.1 20170907 [gcc-7-branch revision 251847] (GCC)
Platform: powerpc64le-unknown-linux-gnu
configure flags: --prefix=/opt/gcc-nightly/7 --with-as=/home/gccbuild/binutils/install/binutils-2.26/bin/as --with-ld=/home/gccbuild/binutils/install/binutils-2.26/bin/ld --enable-languages=c,c++,fortran,objc,obj-c++,go --with-cpu=power8
More information about the Gcc-testresults
mailing list