Results for 8.0.0 20170617 (experimental) [trunk revision 249338] (GCC) libstdc++ testsuite on x86_64-pc-linux-gnu
Jonathan Wakely
jwakely.gcc@gmail.com
Sat Jun 17 22:58:00 GMT 2017
Native configuration is x86_64-pc-linux-gnu
=== libstdc++ tests ===
Running target unix/-std=gnu++11
=== libstdc++ Summary for unix/-std=gnu++11 ===
# of expected passes 11620
# of expected failures 69
# of unsupported tests 566
Running target unix/-std=gnu++11/-D_GLIBCXX_USE_CXX11_ABI=0
=== libstdc++ Summary for unix/-std=gnu++11/-D_GLIBCXX_USE_CXX11_ABI=0 ===
# of expected passes 11587
# of expected failures 69
# of unsupported tests 584
Running target unix/-std=gnu++11/-m32
=== libstdc++ Summary for unix/-std=gnu++11/-m32 ===
# of expected passes 11628
# of expected failures 69
# of unsupported tests 562
Running target unix/-std=gnu++11/-m32/-D_GLIBCXX_USE_CXX11_ABI=0
=== libstdc++ Summary for unix/-std=gnu++11/-m32/-D_GLIBCXX_USE_CXX11_ABI=0 ===
# of expected passes 11595
# of expected failures 69
# of unsupported tests 580
Running target unix/-std=gnu++14
=== libstdc++ Summary for unix/-std=gnu++14 ===
# of expected passes 12209
# of expected failures 69
# of unsupported tests 247
Running target unix/-std=gnu++14/-D_GLIBCXX_USE_CXX11_ABI=0
=== libstdc++ Summary for unix/-std=gnu++14/-D_GLIBCXX_USE_CXX11_ABI=0 ===
# of expected passes 12176
# of expected failures 69
# of unsupported tests 265
Running target unix/-std=gnu++14/-m32
=== libstdc++ Summary for unix/-std=gnu++14/-m32 ===
# of expected passes 12217
# of expected failures 69
# of unsupported tests 243
Running target unix/-std=gnu++14/-m32/-D_GLIBCXX_USE_CXX11_ABI=0
=== libstdc++ Summary for unix/-std=gnu++14/-m32/-D_GLIBCXX_USE_CXX11_ABI=0 ===
# of expected passes 12184
# of expected failures 69
# of unsupported tests 261
Running target unix/-std=gnu++17
=== libstdc++ Summary for unix/-std=gnu++17 ===
# of expected passes 12162
# of expected failures 70
# of unsupported tests 259
Running target unix/-std=gnu++17/-D_GLIBCXX_USE_CXX11_ABI=0
=== libstdc++ Summary for unix/-std=gnu++17/-D_GLIBCXX_USE_CXX11_ABI=0 ===
# of expected passes 12129
# of expected failures 70
# of unsupported tests 277
Running target unix/-std=gnu++17/-m32
=== libstdc++ Summary for unix/-std=gnu++17/-m32 ===
# of expected passes 12170
# of expected failures 70
# of unsupported tests 255
Running target unix/-std=gnu++17/-m32/-D_GLIBCXX_USE_CXX11_ABI=0
=== libstdc++ Summary for unix/-std=gnu++17/-m32/-D_GLIBCXX_USE_CXX11_ABI=0 ===
# of expected passes 12137
# of expected failures 70
# of unsupported tests 273
Running target unix/-std=gnu++98
=== libstdc++ Summary for unix/-std=gnu++98 ===
# of expected passes 6561
# of expected failures 23
# of unsupported tests 3449
Running target unix/-std=gnu++98/-D_GLIBCXX_USE_CXX11_ABI=0
=== libstdc++ Summary for unix/-std=gnu++98/-D_GLIBCXX_USE_CXX11_ABI=0 ===
# of expected passes 6561
# of expected failures 23
# of unsupported tests 3449
Running target unix/-std=gnu++98/-m32
=== libstdc++ Summary for unix/-std=gnu++98/-m32 ===
# of expected passes 6561
# of expected failures 23
# of unsupported tests 3449
Running target unix/-std=gnu++98/-m32/-D_GLIBCXX_USE_CXX11_ABI=0
=== libstdc++ Summary for unix/-std=gnu++98/-m32/-D_GLIBCXX_USE_CXX11_ABI=0 ===
# of expected passes 6561
# of expected failures 23
# of unsupported tests 3449
=== libstdc++ Summary ===
# of expected passes 170058
# of expected failures 924
# of unsupported tests 18168
Compiler version: gcc libstdc++
Platform: x86_64-pc-linux-gnu
configure flags: --enable-languages=c++ --disable-bootstrap --disable-libcc1 --disable-libcilkrts --disable-libhsail-rt --disable-libmpx --disable-liboffloadmic --disable-libvtv --with-system-zlib --with-gnu-ld --with-gnu-as --without-isl
More information about the Gcc-testresults
mailing list