Results for 6.3.0 (GCC) testsuite on x86_64-pc-linux-gnu
Barry McInnes (NOAA Affiliate)
barry.j.mcinnes@noaa.gov
Fri Feb 3 14:22:00 GMT 2017
=== gcc Summary ===
# of expected passes 115303
# of unexpected failures 56
# of unexpected successes 24
# of expected failures 319
# of unresolved testcases 2
# of unsupported tests 2934
--
=== gfortran Summary ===
# of expected passes 42766
# of expected failures 68
# of unsupported tests 70
/usr/local/src/gcc-6.3.0/gcc-build/gcc/gfortran version 6.3.0 (GCC)
=== g++ tests ===
--
=== g++ Summary ===
# of expected passes 106021
# of unexpected failures 2
# of expected failures 320
# of unsupported tests 3843
/usr/local/src/gcc-6.3.0/gcc-build/gcc/xg++ version 6.3.0 (GCC)
--
=== libatomic Summary ===
# of expected passes 54
=== libgomp tests ===
Running target unix
=== libgomp Summary ===
# of expected passes 5010
# of unsupported tests 319
=== libitm tests ===
Running target unix
--
=== libitm Summary ===
# of expected passes 42
# of expected failures 3
# of unsupported tests 1
=== libstdc++ tests ===
--
=== libstdc++ Summary ===
# of expected passes 11407
# of unexpected failures 5
# of expected failures 66
# of unsupported tests 232
Compiler version: 6.3.0 (GCC)
../configure \
--prefix=$dir/gfortran$3 \
--enable-languages=c,c++,fortran \
--enable-shared \
--without-included-gettext \
--enable-threads=posix \
--enable-nls \
--enable-clocale=gnu \
--enable-libstdcxx-time=yes \
--with-default-libstdcxx-abi=new \
--enable-libmpx \
--disable-multilib \
--with-system-zlib
More information about the Gcc-testresults
mailing list