Results for 7.0.0 20160426 (experimental) (GCC) testsuite on x86_64-pc-linux-gnu
ataignu@gmail.com
ataignu@gmail.com
Tue Apr 26 17:54:00 GMT 2016
Native configuration is x86_64-pc-linux-gnu
=== gcc tests ===
Running target unix
=== gcc Summary ===
# of expected passes 112159
# of expected failures 320
# of unsupported tests 2217
/hdd/share/software/gcc/build/gcc/xgcc version 7.0.0 20160426 (experimental) (GCC)
=== g++ tests ===
Running target unix
XPASS: g++.dg/tls/thread_local-order2.C -std=c++11 execution test
XPASS: g++.dg/tls/thread_local-order2.C -std=c++14 execution test
=== g++ Summary ===
# of expected passes 104877
# of unexpected successes 2
# of expected failures 315
# of unsupported tests 3705
/hdd/share/software/gcc/build/gcc/testsuite/g++/../../xg++ version 7.0.0 20160426 (experimental) (GCC)
=== libatomic tests ===
Running target unix
=== libatomic Summary ===
# of expected passes 54
=== libgomp tests ===
Running target unix
=== libgomp Summary ===
# of expected passes 1794
# of unsupported tests 155
=== libitm tests ===
Running target unix
=== libitm Summary ===
# of expected passes 42
# of expected failures 3
# of unsupported tests 1
=== libstdc++ tests ===
Running target unix
=== libstdc++ Summary ===
# of expected passes 10395
# of expected failures 67
# of unsupported tests 548
Compiler version: 7.0.0 20160426 (experimental) (GCC)
Platform: x86_64-pc-linux-gnu
configure flags: --prefix=/share/software/gcc/build/../installed --enable-languages=c,c++ --disable-multilib
More information about the Gcc-testresults
mailing list