Results for 5.0.0 20150210 (experimental) [trunk revision 220596] (GCC) testsuite on x86_64-unknown-linux-gnu

Intel Automatic Testing System [Intel64 Core AVX512] i64corei7avx512@ecsmtp.ims.intel.com
Wed Feb 11 01:27:00 GMT 2015


LAST_UPDATED: Tue Feb 10 22:55:10 UTC 2015 (revision 220596)

Native configuration is x86_64-unknown-linux-gnu

		=== gcc tests ===


Running target sde-sim

		=== gcc Summary ===

# of expected passes		4215
# of expected failures		3
# of unsupported tests		866
/nightly/gcc.svn/test-intel64corei7avx512/gcc-build-trunk/bld/gcc/xgcc  version 5.0.0 20150210 (experimental) [trunk revision 220596] (GCC) 

		=== gfortran tests ===


Running target sde-sim

		=== gfortran Summary ===

/nightly/gcc.svn/test-intel64corei7avx512/gcc-build-trunk/bld/gcc/testsuite/gfortran/../../gfortran  version 5.0.0 20150210 (experimental) [trunk revision 220596] (GCC) 

		=== g++ tests ===


Running target sde-sim

		=== g++ Summary ===

/nightly/gcc.svn/test-intel64corei7avx512/gcc-build-trunk/bld/gcc/testsuite/g++/../../xg++  version 5.0.0 20150210 (experimental) [trunk revision 220596] (GCC) 

		=== objc tests ===


Running target sde-sim

		=== objc Summary ===

/nightly/gcc.svn/test-intel64corei7avx512/gcc-build-trunk/bld/gcc/xgcc  version 5.0.0 20150210 (experimental) [trunk revision 220596] (GCC) 

		=== boehm-gc tests ===


Running target sde-sim

		=== boehm-gc Summary ===

		=== libatomic tests ===


Running target sde-sim

		=== libatomic Summary ===

		=== libffi tests ===


Running target sde-sim

		=== libffi Summary ===

		=== libgomp tests ===


Running target sde-sim

		=== libgomp Summary ===

		=== libitm tests ===


Running target sde-sim

		=== libitm Summary ===

		=== libjava tests ===


Running target sde-sim

		=== libjava Summary ===

		=== libstdc++ tests ===


Running target sde-sim

		=== libstdc++ Summary ===


Compiler version: 5.0.0 20150210 (experimental) [trunk revision 220596] (GCC) 
Platform: x86_64-unknown-linux-gnu
configure flags: --prefix=/usr/local --enable-clocale=gnu --with-system-zlib --enable-shared --with-demangler-in-ld --enable-cloog-backend=isl --with-ppl-include=/opt/gnu/include --with-ppl-lib=/opt/gnu/lib64 --with-cloog-include=/opt/gnu/include --with-cloog-lib=/opt/gnu/lib64 --with-fpmath=sse --enable-languages=c,c++,fortran,java,lto,objc



More information about the Gcc-testresults mailing list