Results for gcc testsuite on x86_64-unknown-freebsd11.0

Andreas Tobler andreast@fgznet.ch
Thu Dec 17 05:12:00 GMT 2015


LAST_UPDATED: Wed Dec 16 20:56:29 UTC 2015 (revision 231719)

Native configuration is x86_64-unknown-freebsd11.0

		=== boehm-gc tests ===


Running target unix
ERROR: tcl error sourcing /export/devel/net/src/gcc/branch/gcc-5/boehm-gc/testsuite/boehm-gc.c/c.exp.
ERROR: can't read "orig_ld_32_library_path_saved": no such variable
ERROR: tcl error sourcing /export/devel/net/src/gcc/branch/gcc-5/boehm-gc/testsuite/boehm-gc.lib/lib.exp.
ERROR: can't read "orig_ld_32_library_path_saved": no such variable

		=== boehm-gc Summary ===

		=== libatomic tests ===


Running target unix
		=== libffi tests ===


Running target unix
ERROR: tcl error sourcing /export/devel/net/src/gcc/branch/gcc-5/libffi/testsuite/libffi.call/call.exp.
ERROR: can't read "orig_ld_32_library_path_saved": no such variable
ERROR: tcl error sourcing /export/devel/net/src/gcc/branch/gcc-5/libffi/testsuite/libffi.complex/complex.exp.
ERROR: can't read "orig_ld_32_library_path_saved": no such variable
ERROR: tcl error sourcing /export/devel/net/src/gcc/branch/gcc-5/libffi/testsuite/libffi.go/go.exp.
ERROR: can't read "orig_ld_32_library_path_saved": no such variable
ERROR: tcl error sourcing /export/devel/net/src/gcc/branch/gcc-5/libffi/testsuite/libffi.special/special.exp.
ERROR: can't read "orig_ld_32_library_path_saved": no such variable

		=== libffi Summary ===

		=== libgomp tests ===


Running target unix
		=== libitm tests ===


Running target unix
		=== libjava tests ===


Running target unix
ERROR: tcl error sourcing /export/devel/net/src/gcc/branch/gcc-5/libjava/testsuite/libjava.cni/cni.exp.
ERROR: can't read "orig_ld_32_library_path_saved": no such variable
ERROR: tcl error sourcing /export/devel/net/src/gcc/branch/gcc-5/libjava/testsuite/libjava.jar/jar.exp.
ERROR: can't read "orig_ld_32_library_path_saved": no such variable
ERROR: tcl error sourcing /export/devel/net/src/gcc/branch/gcc-5/libjava/testsuite/libjava.jni/jni.exp.
ERROR: can't read "orig_ld_32_library_path_saved": no such variable
ERROR: tcl error sourcing /export/devel/net/src/gcc/branch/gcc-5/libjava/testsuite/libjava.jvmti/jvmti-interp.exp.
ERROR: can't read "orig_ld_32_library_path_saved": no such variable
ERROR: tcl error sourcing /export/devel/net/src/gcc/branch/gcc-5/libjava/testsuite/libjava.jvmti/jvmti.exp.
ERROR: can't read "orig_ld_32_library_path_saved": no such variable
ERROR: tcl error sourcing /export/devel/net/src/gcc/branch/gcc-5/libjava/testsuite/libjava.lang/lang.exp.
ERROR: can't read "orig_ld_32_library_path_saved": no such variable
ERROR: tcl error sourcing /export/devel/net/src/gcc/branch/gcc-5/libjava/testsuite/libjava.loader/loader.exp.
ERROR: can't read "orig_ld_32_library_path_saved": no such variable

		=== libjava Summary ===

# of expected passes		6

Compiler version: gcc 
Platform: x86_64-unknown-freebsd11.0
configure flags: --prefix=/export/devel/build/gcc/head/testbin --disable-nls --with-as=/usr/local/bin/as --with-ld=/usr/local/bin/ld



More information about the Gcc-testresults mailing list