Results for 4.8.0 20130212 (experimental) (GCC) testsuite on x86_64-unknown-linux-gnu
Sebastian Huber
sebastian.huber@embedded-brains.de
Tue Feb 12 16:50:00 GMT 2013
LAST_UPDATED: Tue Feb 12 09:22:25 UTC 2013 (revision
022fc2d:bffd767:fd457cef14f3bc6673e90a2de80005feea743ab7)
Native configuration is x86_64-unknown-linux-gnu
=== gcc tests ===
Running target unix
XPASS: gcc.dg/inline_3.c (test for excess errors)
XPASS: gcc.dg/inline_4.c (test for excess errors)
XPASS: gcc.dg/unroll_2.c (test for excess errors)
XPASS: gcc.dg/unroll_3.c (test for excess errors)
XPASS: gcc.dg/unroll_4.c (test for excess errors)
=== gcc Summary ===
# of expected passes 92246
# of unexpected successes 5
# of expected failures 257
# of unsupported tests 1524
/scratch/git-build/b-gcc-git-linux/gcc/xgcc version 4.8.0 20130212
(experimental) [master revision
022fc2d:bffd767:fd457cef14f3bc6673e90a2de80005feea743ab7] (GCC)
=== g++ tests ===
Running target unix
=== g++ Summary ===
# of expected passes 53650
# of expected failures 289
# of unsupported tests 738
/scratch/git-build/b-gcc-git-linux/gcc/testsuite/g++/../../xg++ version 4.8.0
20130212 (experimental) [master revision
022fc2d:bffd767:fd457cef14f3bc6673e90a2de80005feea743ab7] (GCC)
Compiler version: 4.8.0 20130212 (experimental) [master revision
022fc2d:bffd767:fd457cef14f3bc6673e90a2de80005feea743ab7] (GCC)
Platform: x86_64-unknown-linux-gnu
configure flags: --prefix=/scratch/install-gcc-git --verbose
--enable-languages=c,c++
--
Sebastian Huber, embedded brains GmbH
Address : Dornierstr. 4, D-82178 Puchheim, Germany
Phone : +49 89 189 47 41-16
Fax : +49 89 189 47 41-09
E-Mail : sebastian.huber@embedded-brains.de
PGP : Public key available on request.
Diese Nachricht ist keine geschäftliche Mitteilung im Sinne des EHUG.
More information about the Gcc-testresults
mailing list