Results for 4.7.0 20120313 (prerelease) [gcc-4_7-branch revision 185353] (GCC) testsuite on hppa64-hp-hpux11.11
John David Anglin
dave@hiauly3.hia.nrc.ca
Fri Mar 16 04:25:00 GMT 2012
Native configuration is hppa64-hp-hpux11.11
=== g++ tests ===
Running target unix
WARNING: program timed out.
=== g++ Summary ===
# of expected passes 44748
# of expected failures 290
# of unsupported tests 873
/mnt/gnu/gcc/objdir-test/gcc/testsuite/g++/../../g++ version 4.7.0 20120313 (prerelease) [gcc-4_7-branch revision 185353] (GCC)
=== gcc tests ===
Running target unix
WARNING: program timed out.
=== gcc Summary ===
# of expected passes 70363
# of expected failures 119
# of unsupported tests 1501
/mnt/gnu/gcc/objdir-test/gcc/xgcc version 4.7.0 20120313 (prerelease) [gcc-4_7-branch revision 185353] (GCC)
=== gfortran tests ===
Running target unix
=== gfortran Summary ===
# of expected passes 39499
# of expected failures 42
# of unsupported tests 375
/mnt/gnu/gcc/objdir-test/gcc/testsuite/gfortran/../../gfortran version 4.7.0 20120313 (prerelease) [gcc-4_7-branch revision 185353] (GCC)
=== obj-c++ tests ===
Running target unix
=== obj-c++ Summary ===
# of expected passes 1442
# of expected failures 10
# of unsupported tests 86
/mnt/gnu/gcc/objdir-test/gcc/testsuite/obj-c++/../../g++ version 4.7.0 20120313 (prerelease) [gcc-4_7-branch revision 185353] (GCC)
=== objc tests ===
Running target unix
=== objc Summary ===
# of expected passes 2992
# of unsupported tests 75
/mnt/gnu/gcc/objdir-test/gcc/xgcc version 4.7.0 20120313 (prerelease) [gcc-4_7-branch revision 185353] (GCC)
=== libgomp tests ===
Running target unix
=== libgomp Summary ===
# of expected passes 2930
# of unsupported tests 10
=== libstdc++ tests ===
Running target unix
=== libstdc++ Summary ===
# of expected passes 7280
# of expected failures 43
# of unsupported tests 797
Compiler version: 4.7.0 20120313 (prerelease) [gcc-4_7-branch revision 185353] (GCC)
Platform: hppa64-hp-hpux11.11
configure flags:Test Run By dave on Wed Mar 14 04:42:51 2012
More information about the Gcc-testresults
mailing list