Results for 4.6.4 20120603 (prerelease) [gcc-4_6-branch revision 188156] (GCC) testsuite on hppa64-hp-hpux11.11
John David Anglin
dave@hiauly3.hia.nrc.ca
Tue Jun 5 20:21:00 GMT 2012
Native configuration is hppa64-hp-hpux11.11
=== g++ tests ===
Running target unix
XPASS: g++.dg/uninit-pred-3_b.C (test for excess errors)
WARNING: program timed out.
=== g++ Summary ===
# of expected passes 25137
# of unexpected successes 1
# of expected failures 170
# of unsupported tests 602
/mnt/gnu/gcc/objdir-test/gcc/testsuite/g++/../../g++ version 4.6.4 20120603 (prerelease) [gcc-4_6-branch revision 188156] (GCC)
=== gcc tests ===
Running target unix
WARNING: program timed out.
=== gcc Summary ===
# of expected passes 67611
# of expected failures 134
# of unsupported tests 1254
/mnt/gnu/gcc/objdir-test/gcc/xgcc version 4.6.4 20120603 (prerelease) [gcc-4_6-branch revision 188156] (GCC)
=== gfortran tests ===
Running target unix
=== gfortran Summary ===
# of expected passes 37825
# of expected failures 41
# of unsupported tests 363
/mnt/gnu/gcc/objdir-test/gcc/testsuite/gfortran/../../gfortran version 4.6.4 20120603 (prerelease) [gcc-4_6-branch revision 188156] (GCC)
=== obj-c++ tests ===
Running target unix
=== obj-c++ Summary ===
# of expected passes 1380
# of expected failures 10
# of unsupported tests 86
/mnt/gnu/gcc/objdir-test/gcc/testsuite/obj-c++/../../g++ version 4.6.4 20120603 (prerelease) [gcc-4_6-branch revision 188156] (GCC)
=== objc tests ===
Running target unix
=== objc Summary ===
# of expected passes 2914
# of expected failures 10
# of unsupported tests 75
/mnt/gnu/gcc/objdir-test/gcc/xgcc version 4.6.4 20120603 (prerelease) [gcc-4_6-branch revision 188156] (GCC)
=== libgomp tests ===
Running target unix
=== libgomp Summary ===
# of expected passes 2614
# of unsupported tests 10
=== libstdc++ tests ===
Running target unix
=== libstdc++ Summary ===
# of expected passes 6905
# of expected failures 82
# of unsupported tests 738
Compiler version: 4.6.4 20120603 (prerelease) [gcc-4_6-branch revision 188156] (GCC)
Platform: hppa64-hp-hpux11.11
configure flags:Test Run By dave on Mon Jun 4 07:47:09 2012
More information about the Gcc-testresults
mailing list