ACATS results for 20110615 (experimental) [trunk revision 175083] on m32r-rtems4.11

Joel Sherrill joel@rtems.org
Sat Jun 18 21:45:00 GMT 2011


HOST: x86_64-unknown-linux-gnu
m32r-rtems4.11-gcc (GCC) 4.7.0 20110615 (experimental) [trunk revision 175083]

=== acats Summary ===
# of expected passes 1857
# of unexpected failures 462
# of unsupported tests 3

ce2108f - simulator does not have persistent files
ce2108h - simulator does not have persistent files
ce3112d - simulator does not have persistent files
a85013b - unknown reason for failure
a87b59a - unknown reason for failure
a95001c - unknown reason for failure
a95074d - unknown reason for failure
a99006a - unknown reason for failure
aa2010a - unknown reason for failure
ac3207a - unknown reason for failure
ad7201a - unknown reason for failure
ad7203b - unknown reason for failure
ad7205b - unknown reason for failure
c250002 - unknown reason for failure
c34004a - unknown reason for failure
c34006l - unknown reason for failure
c34007g - unknown reason for failure
c34007j - unknown reason for failure
c34007s - unknown reason for failure
c34008a - unknown reason for failure
c34009f - unknown reason for failure
c34009l - unknown reason for failure
c35102a - unknown reason for failure
c35502c - unknown reason for failure
c35502e - unknown reason for failure
c35502n - unknown reason for failure
c35507c - unknown reason for failure
c35507e - unknown reason for failure
c35507l - unknown reason for failure
c35507n - unknown reason for failure
c36104b - unknown reason for failure
c37402a - unknown reason for failure
c37403a - unknown reason for failure
c380004 - unknown reason for failure
c38102d - unknown reason for failure
c38202a - unknown reason for failure
c39008a - unknown reason for failure
c39008b - unknown reason for failure
c39008c - unknown reason for failure
c3a1002 - unknown reason for failure
c41306a - unknown reason for failure
c41306b - unknown reason for failure
c41306c - unknown reason for failure
c41307d - unknown reason for failure
c41401a - unknown reason for failure
c43204g - unknown reason for failure
c433001 - unknown reason for failure
c45282b - unknown reason for failure
c45291a - unknown reason for failure
c46051a - unknown reason for failure
c51004a - unknown reason for failure
c52008b - unknown reason for failure
c52103x - unknown reason for failure
c52104x - unknown reason for failure
c52104y - unknown reason for failure
c59002c - unknown reason for failure
c64005c - WRONG ITERATIVE TRACE LENGTH.
c64005d - WRONG ITERATIVE TRACE LENGTH.
c64201b - unknown reason for failure
c64201c - unknown reason for failure
c650001 - unknown reason for failure
c74004a - unknown reason for failure
c74401k - unknown reason for failure
c74406a - unknown reason for failure
c760010 - unknown reason for failure
c761001 - unknown reason for failure
c761007 - unknown reason for failure
c83023a - unknown reason for failure
c85004b - unknown reason for failure
c85005a - unknown reason for failure
c85005b - unknown reason for failure
c85005c - unknown reason for failure
c85005d - unknown reason for failure
c85005e - unknown reason for failure
c85006a - unknown reason for failure
c85006b - unknown reason for failure
c85006c - unknown reason for failure
c85006d - unknown reason for failure
c85006e - unknown reason for failure
c85014a - unknown reason for failure
c85014b - unknown reason for failure
c85014c - unknown reason for failure
c85018a - unknown reason for failure
c85018b - unknown reason for failure
c87b26b - unknown reason for failure
c87b45c - unknown reason for failure
c87b54a - unknown reason for failure
c910001 - unknown reason for failure
c910002 - unknown reason for failure
c910003 - unknown reason for failure
c91004b - unknown reason for failure
c91004c - unknown reason for failure
c91006a - unknown reason for failure
c91007a - unknown reason for failure
c92002a - unknown reason for failure
c92003a - unknown reason for failure
c92005a - unknown reason for failure
c92005b - unknown reason for failure
c92006a - unknown reason for failure
c930001 - unknown reason for failure
c93001a - unknown reason for failure
c93002a - unknown reason for failure
c93003a - unknown reason for failure
c93004a - unknown reason for failure
c93004b - unknown reason for failure
c93004c - unknown reason for failure
c93004d - unknown reason for failure
c93004f - unknown reason for failure
c93005a - unknown reason for failure
c93005b - unknown reason for failure
c93005c - unknown reason for failure
c93005d - unknown reason for failure
c93005e - unknown reason for failure
c93005f - unknown reason for failure
c93005g - unknown reason for failure
c93005h - unknown reason for failure
c93006a - unknown reason for failure
c93007a - unknown reason for failure
c93008a - unknown reason for failure
c93008b - unknown reason for failure
c940001 - unknown reason for failure
c940002 - unknown reason for failure
c940004 - unknown reason for failure
c940005 - unknown reason for failure
c940007 - unknown reason for failure
c940010 - unknown reason for failure
c940013 - unknown reason for failure
c940014 - unknown reason for failure
c940016 - unknown reason for failure
c94001a - unknown reason for failure
c94001b - unknown reason for failure
c94001c - unknown reason for failure
c94001e - unknown reason for failure
c94001f - unknown reason for failure
c94001g - unknown reason for failure
c94002a - unknown reason for failure
c94002b - unknown reason for failure
c94002d - unknown reason for failure
c94002e - unknown reason for failure
c94002f - unknown reason for failure
c94002g - unknown reason for failure
c94004a - unknown reason for failure
c94004b - unknown reason for failure
c94004c - unknown reason for failure
c94005a - unknown reason for failure
c94005b - unknown reason for failure
c94006a - unknown reason for failure
c94007a - unknown reason for failure
c94007b - unknown reason for failure
c94008a - unknown reason for failure
c94008b - unknown reason for failure
c94008c - unknown reason for failure
c94008d - unknown reason for failure
c94010a - unknown reason for failure
c94011a - unknown reason for failure
c94020a - unknown reason for failure
c940a03 - unknown reason for failure
c95008a - unknown reason for failure
c95009a - unknown reason for failure
c95010a - unknown reason for failure
c95011a - unknown reason for failure
c95012a - unknown reason for failure
c95021a - unknown reason for failure
c95022a - unknown reason for failure
c95022b - unknown reason for failure
c95033a - unknown reason for failure
c95033b - unknown reason for failure
c95034a - unknown reason for failure
c95034b - unknown reason for failure
c95035a - unknown reason for failure
c95040a - unknown reason for failure
c95040b - unknown reason for failure
c95040c - unknown reason for failure
c95040d - unknown reason for failure
c95041a - unknown reason for failure
c95065a - unknown reason for failure
c95065b - unknown reason for failure
c95065c - unknown reason for failure
c95065d - unknown reason for failure
c95065e - unknown reason for failure
c95065f - unknown reason for failure
c95066a - unknown reason for failure
c95067a - unknown reason for failure
c95071a - unknown reason for failure
c95072a - unknown reason for failure
c95072b - unknown reason for failure
c95073a - unknown reason for failure
c95074c - unknown reason for failure
c95076a - unknown reason for failure
c95078a - unknown reason for failure
c95080b - unknown reason for failure
c95082g - unknown reason for failure
c95085a - unknown reason for failure
c95085b - unknown reason for failure
c95085c - unknown reason for failure
c95085d - unknown reason for failure
c95085e - unknown reason for failure
c95085f - unknown reason for failure
c95085g - unknown reason for failure
c95085h - unknown reason for failure
c95085i - unknown reason for failure
c95085j - unknown reason for failure
c95085k - unknown reason for failure
c95085l - unknown reason for failure
c95085m - unknown reason for failure
c95085n - unknown reason for failure
c95085o - unknown reason for failure
c95086a - unknown reason for failure
c95086b - unknown reason for failure
c95086c - unknown reason for failure
c95086d - unknown reason for failure
c95086e - unknown reason for failure
c95086f - unknown reason for failure
c95087a - unknown reason for failure
c95087b - unknown reason for failure
c95087c - unknown reason for failure
c95087d - unknown reason for failure
c95088a - unknown reason for failure
c95089a - unknown reason for failure
c95090a - unknown reason for failure
c95092a - unknown reason for failure
c95093a - unknown reason for failure
c95095a - unknown reason for failure
c95095b - unknown reason for failure
c95095c - unknown reason for failure
c95095d - unknown reason for failure
c95095e - unknown reason for failure
c951001 - unknown reason for failure
c951002 - unknown reason for failure
c953001 - unknown reason for failure
c953002 - ran too long, may eventually finish
c953003 - unknown reason for failure
c954001 - unknown reason for failure
c954010 - unknown reason for failure
c954011 - unknown reason for failure
c954012 - unknown reason for failure
c954013 - unknown reason for failure
c954014 - unknown reason for failure
c954015 - unknown reason for failure
c954016 - unknown reason for failure
c954017 - unknown reason for failure
c954018 - unknown reason for failure
c954019 - unknown reason for failure
c954020 - unknown reason for failure
c954021 - unknown reason for failure
c954022 - unknown reason for failure
c954023 - unknown reason for failure
c954024 - unknown reason for failure
c954025 - unknown reason for failure
c954026 - unknown reason for failure
c954a01 - unknown reason for failure
c954a02 - unknown reason for failure
c954a03 - unknown reason for failure
c960001 - unknown reason for failure
c960002 - unknown reason for failure
c960004 - unknown reason for failure
c97112a - unknown reason for failure
c97113a - unknown reason for failure
c97114a - unknown reason for failure
c97115a - unknown reason for failure
c97116a - unknown reason for failure
c97117a - unknown reason for failure
c97117b - unknown reason for failure
c97117c - unknown reason for failure
c97118a - unknown reason for failure
c97120a - unknown reason for failure
c97120b - unknown reason for failure
c97201a - unknown reason for failure
c97201b - unknown reason for failure
c97201c - unknown reason for failure
c97201d - unknown reason for failure
c97201e - unknown reason for failure
c97201g - unknown reason for failure
c97201h - unknown reason for failure
c97201x - unknown reason for failure
c97202a - unknown reason for failure
c97203a - unknown reason for failure
c97203b - unknown reason for failure
c97203c - unknown reason for failure
c97204a - unknown reason for failure
c97204b - unknown reason for failure
c97205a - unknown reason for failure
c97205b - unknown reason for failure
c97301a - unknown reason for failure
c97301b - unknown reason for failure
c97301c - unknown reason for failure
c97301d - unknown reason for failure
c97301e - unknown reason for failure
c97302a - unknown reason for failure
c97303a - unknown reason for failure
c97303b - unknown reason for failure
c97303c - unknown reason for failure
c97304a - unknown reason for failure
c97304b - unknown reason for failure
c97305a - unknown reason for failure
c97305b - unknown reason for failure
c97305c - unknown reason for failure
c97305d - unknown reason for failure
c97307a - unknown reason for failure
c974001 - unknown reason for failure
c974002 - unknown reason for failure
c974003 - unknown reason for failure
c974004 - unknown reason for failure
c974005 - unknown reason for failure
c974006 - unknown reason for failure
c974008 - unknown reason for failure
c974009 - unknown reason for failure
c974010 - unknown reason for failure
c974011 - unknown reason for failure
c974012 - unknown reason for failure
c974013 - unknown reason for failure
c974014 - unknown reason for failure
c980001 - unknown reason for failure
c980002 - unknown reason for failure
c980003 - unknown reason for failure
c99004a - unknown reason for failure
c99005a - unknown reason for failure
c9a003a - unknown reason for failure
c9a007a - unknown reason for failure
c9a009a - unknown reason for failure
c9a009c - unknown reason for failure
c9a009f - unknown reason for failure
c9a009g - unknown reason for failure
c9a009h - unknown reason for failure
c9a010a - unknown reason for failure
c9a011a - unknown reason for failure
c9a011b - unknown reason for failure
ca5004a - unknown reason for failure
cb1010a - unknown reason for failure
cb1010c - unknown reason for failure
cb1010d - unknown reason for failure
cb20001 - unknown reason for failure
cb20004 - unknown reason for failure
cb40005 - unknown reason for failure
cb4013a - unknown reason for failure
cb41002 - unknown reason for failure
cb5001a - unknown reason for failure
cb5001b - unknown reason for failure
cb5002a - unknown reason for failure
cc1104c - unknown reason for failure
cc1207b - unknown reason for failure
cc1225a - unknown reason for failure
cc1310a - unknown reason for failure
cc3019a - unknown reason for failure
cc3019c - unknown reason for failure
cc3106b - unknown reason for failure
cc3120b - unknown reason for failure
cc3207b - unknown reason for failure
cc3225a - unknown reason for failure
cc3601c - unknown reason for failure
cc3602a - unknown reason for failure
cd10002 - unknown reason for failure
cd1009a - unknown reason for failure
cd1009i - unknown reason for failure
cd1c03a - unknown reason for failure
cd2a21c - unknown reason for failure
cd2a23e - unknown reason for failure
cd2a24a - unknown reason for failure
cd2a32a - unknown reason for failure
cd2a91c - unknown reason for failure
cd2b11a - unknown reason for failure
cd2b15c - unknown reason for failure
cd2c11a - unknown reason for failure
cd5003e - unknown reason for failure
cd72a02 - unknown reason for failure
ce2102a - unknown reason for failure
ce2102b - unknown reason for failure
ce2102c - unknown reason for failure
ce2102h - unknown reason for failure
ce2103a - unknown reason for failure
ce2103b - unknown reason for failure
ce2110a - unknown reason for failure
ce2110c - unknown reason for failure
ce2201b - unknown reason for failure
ce2204a - unknown reason for failure
ce2204b - unknown reason for failure
ce2205a - unknown reason for failure
ce2206a - unknown reason for failure
ce2208b - unknown reason for failure
ce2404a - unknown reason for failure
ce2405b - unknown reason for failure
ce3102a - unknown reason for failure
ce3102b - unknown reason for failure
ce3102d - unknown reason for failure
ce3102h - unknown reason for failure
ce3107a - unknown reason for failure
ce3114a - unknown reason for failure
ce3115a - unknown reason for failure
ce3207a - unknown reason for failure
ce3304a - unknown reason for failure
ce3403f - unknown reason for failure
ce3406c - unknown reason for failure
ce3409e - unknown reason for failure
ce3410e - unknown reason for failure
ce3414a - unknown reason for failure
ce3601a - unknown reason for failure
ce3602c - unknown reason for failure
ce3603a - unknown reason for failure
ce3605c - unknown reason for failure
ce3704c - unknown reason for failure
ce3704d - unknown reason for failure
ce3704e - unknown reason for failure
ce3704f - unknown reason for failure
ce3704m - unknown reason for failure
ce3704n - unknown reason for failure
ce3704o - unknown reason for failure
ce3705a - unknown reason for failure
ce3705b - unknown reason for failure
ce3705c - unknown reason for failure
ce3705d - unknown reason for failure
ce3705e - unknown reason for failure
ce3706d - unknown reason for failure
ce3804d - unknown reason for failure
ce3804e - unknown reason for failure
ce3804f - unknown reason for failure
ce3804g - unknown reason for failure
ce3804h - unknown reason for failure
ce3804m - unknown reason for failure
ce3804p - unknown reason for failure
ce3805a - unknown reason for failure
ce3805b - unknown reason for failure
ce3806e - unknown reason for failure
ce3806h - unknown reason for failure
ce3810a - unknown reason for failure
ce3810b - unknown reason for failure
ce3901a - unknown reason for failure
ce3904b - unknown reason for failure
ce3905c - unknown reason for failure
ce3905l - unknown reason for failure
cxa4001 - unknown reason for failure
cxa4004 - unknown reason for failure
cxa4005 - unknown reason for failure
cxa4008 - unknown reason for failure
cxa4009 - unknown reason for failure
cxa4015 - unknown reason for failure
cxa4016 - unknown reason for failure
cxa4019 - unknown reason for failure
cxa4020 - unknown reason for failure
cxa4026 - unknown reason for failure
cxa4027 - unknown reason for failure
cxa4030 - unknown reason for failure
cxa4032 - unknown reason for failure
cxa5012 - unknown reason for failure
cxa8001 - unknown reason for failure
cxa8003 - unknown reason for failure
cxaa012 - unknown reason for failure
cxaa013 - unknown reason for failure
cxaa014 - unknown reason for failure
cxaa015 - unknown reason for failure
cxac003 - unknown reason for failure
cxb3005 - unknown reason for failure
cxb3007 - unknown reason for failure
cxb3012 - unknown reason for failure
cxf3004 - unknown reason for failure
cxf3a01 - unknown reason for failure
cxf3a03 - unknown reason for failure
cxf3a04 - unknown reason for failure
cxf3a08 - unknown reason for failure
cxg1003 - unknown reason for failure
cxg2006 - unknown reason for failure
cxh3001 - unknown reason for failure
cxh3002 - unknown reason for failure
cxh3003 - unknown reason for failure
templat - unknown reason for failure
la14027 - unknown reason for failure

======= Logs for failed tests ======



More information about the Gcc-testresults mailing list