Results for 4.6.0 20110110 (GCC) testsuite on sparc-sun-solaris2.8
Eric Botcazou
botcazou@eu.adacore.com
Tue Jan 11 11:32:00 GMT 2011
=== acats tests ===
=== acats Summary ===
# of expected passes 2321
# of unexpected failures 0
Native configuration is sparc-sun-solaris2.8
=== g++ tests ===
Running target unix
=== g++ Summary for unix ===
# of expected passes 25765
# of expected failures 160
# of unsupported tests 426
Running target unix/-m64
=== g++ Summary for unix/-m64 ===
# of expected passes 26377
# of expected failures 160
# of unsupported tests 423
=== g++ Summary ===
# of expected passes 52142
# of expected failures 320
# of unsupported tests 849
/nile.build/botcazou/gcc-head/sparc-sun-solaris2.8/gcc/testsuite/g++/../../g++ version 4.6.0 20110110 for GNAT Pro 6.5.0w (20110109) (GCC)
=== gcc tests ===
Running target unix
=== gcc Summary for unix ===
# of expected passes 68708
# of expected failures 237
# of unsupported tests 1179
Running target unix/-m64
=== gcc Summary for unix/-m64 ===
# of expected passes 69292
# of expected failures 228
# of unsupported tests 1187
=== gcc Summary ===
# of expected passes 138000
# of expected failures 465
# of unsupported tests 2366
/nile.build/botcazou/gcc-head/sparc-sun-solaris2.8/gcc/xgcc version 4.6.0 20110110 for GNAT Pro 6.5.0w (20110109) (GCC)
=== gfortran tests ===
Running target unix
=== gfortran Summary for unix ===
# of expected passes 37234
# of expected failures 44
# of unsupported tests 370
Running target unix/-m64
=== gfortran Summary for unix/-m64 ===
# of expected passes 37482
# of expected failures 42
# of unsupported tests 250
=== gfortran Summary ===
# of expected passes 74716
# of expected failures 86
# of unsupported tests 620
/nile.build/botcazou/gcc-head/sparc-sun-solaris2.8/gcc/testsuite/gfortran/../../gfortran version 4.6.0 20110110 for GNAT Pro 6.5.0w (20110109) (GCC)
=== gnat tests ===
Running target unix
=== gnat Summary for unix ===
# of expected passes 863
# of expected failures 10
# of unsupported tests 4
Running target unix/-m64
=== gnat Summary for unix/-m64 ===
# of expected passes 863
# of expected failures 10
# of unsupported tests 4
=== gnat Summary ===
# of expected passes 1726
# of expected failures 20
# of unsupported tests 8
=== obj-c++ tests ===
Running target unix
WARNING: obj-c++.dg/try-catch-2.mm -fgnu-runtime compilation failed to produce executable
WARNING: obj-c++.dg/try-catch-9.mm -fgnu-runtime compilation failed to produce executable
=== obj-c++ Summary for unix ===
# of expected passes 1347
# of expected failures 2
# of unsupported tests 86
Running target unix/-m64
WARNING: obj-c++.dg/try-catch-2.mm -fgnu-runtime compilation failed to produce executable
WARNING: obj-c++.dg/try-catch-9.mm -fgnu-runtime compilation failed to produce executable
=== obj-c++ Summary for unix/-m64 ===
# of expected passes 1339
# of expected failures 10
# of unsupported tests 86
=== obj-c++ Summary ===
# of expected passes 2686
# of expected failures 12
# of unsupported tests 172
/nile.build/botcazou/gcc-head/sparc-sun-solaris2.8/gcc/testsuite/obj-c++/../../g++ version 4.6.0 20110110 for GNAT Pro 6.5.0w (20110109) (GCC)
=== objc tests ===
Running target unix
XPASS: objc.dg-struct-layout-encoding-1/t025_main.m execution test
XPASS: objc.dg-struct-layout-encoding-1/t026_main.m execution test
XPASS: objc.dg-struct-layout-encoding-1/t027_main.m execution test
XPASS: objc.dg-struct-layout-encoding-1/t028_main.m execution test
XPASS: objc.dg-struct-layout-encoding-1/t029_main.m execution test
XPASS: objc.dg-struct-layout-encoding-1/t030_main.m execution test
XPASS: objc.dg-struct-layout-encoding-1/t031_main.m execution test
=== objc Summary for unix ===
# of expected passes 2836
# of unexpected successes 7
# of expected failures 10
# of unsupported tests 98
Running target unix/-m64
XPASS: objc.dg-struct-layout-encoding-1/t025_main.m execution test
XPASS: objc.dg-struct-layout-encoding-1/t026_main.m execution test
XPASS: objc.dg-struct-layout-encoding-1/t027_main.m execution test
XPASS: objc.dg-struct-layout-encoding-1/t028_main.m execution test
XPASS: objc.dg-struct-layout-encoding-1/t029_main.m execution test
XPASS: objc.dg-struct-layout-encoding-1/t030_main.m execution test
XPASS: objc.dg-struct-layout-encoding-1/t031_main.m execution test
=== objc Summary for unix/-m64 ===
# of expected passes 2836
# of unexpected successes 7
# of expected failures 10
# of unsupported tests 98
=== objc Summary ===
# of expected passes 5672
# of unexpected successes 14
# of expected failures 20
# of unsupported tests 196
/nile.build/botcazou/gcc-head/sparc-sun-solaris2.8/gcc/xgcc version 4.6.0 20110110 for GNAT Pro 6.5.0w (20110109) (GCC)
=== libgomp tests ===
Running target unix
=== libgomp Summary ===
# of expected passes 2508
# of unsupported tests 9
=== libstdc++ tests ===
Running target unix
=== libstdc++ Summary ===
# of expected passes 6812
# of expected failures 84
# of unsupported tests 743
Compiler version: 4.6.0 20110110 for GNAT Pro 6.5.0w (20110109) (GCC)
Platform: sparc-sun-solaris2.8
configure flags: --prefix=/nile.build/botcazou/gcc-head/install_sparc --with-as=/nile.build/botcazou/gcc-head/install_sparc/bin/as --with-gmp=/nile.build/botcazou/support/sparc --with-mpfr=/nile.build/botcazou/support/sparc --with-mpc=/nile.build/botcazou/support/sparc --enable-languages=c,c++,objc,obj-c++,fortran,ada --disable-nls
BOOT_CFLAGS=-g -O2
More information about the Gcc-testresults
mailing list