Results for 4.6.0 20110105 (experimental) [trunk revision 168505] (GCC) testsuite on sparc-sun-solaris2.10
Rainer Orth
ro@CeBiTec.Uni-Bielefeld.DE
Fri Jan 7 12:20:00 GMT 2011
LAST_UPDATED: Wed Jan 5 12:45:49 UTC 2011 (revision 168505)
=== acats tests ===
=== acats Summary ===
# of expected passes 2321
# of unexpected failures 0
Native configuration is sparc-sun-solaris2.10
=== g++ tests ===
Running target unix
=== g++ Summary for unix ===
# of expected passes 25748
# of expected failures 159
# of unsupported tests 425
Running target unix/-m64
=== g++ Summary for unix/-m64 ===
# of expected passes 26360
# of expected failures 159
# of unsupported tests 422
=== g++ Summary ===
# of expected passes 52108
# of expected failures 318
# of unsupported tests 847
/var/gcc/regression/trunk/10-gcc/build/gcc/testsuite/g++/../../g++ version 4.6.0 20110105 (experimental) [trunk revision 168505] (GCC)
=== gcc tests ===
Running target unix
XPASS: gcc.dg/vect/vect-peel-1.c scan-tree-dump-times vect "vectorized 1 loops" 2
XPASS: gcc.dg/vect/vect-peel-1.c scan-tree-dump-times vect "Alignment of access forced using peeling" 1
XPASS: gcc.dg/vect/vect-peel-2.c scan-tree-dump-times vect "vectorized 1 loops" 2
XPASS: gcc.dg/vect/vect-vfa-slp.c scan-tree-dump-times vect "vectorized 1 loops" 1
XPASS: gcc.dg/vect/slp-23.c scan-tree-dump-times vect "vectorizing stmts using SLP" 1
XPASS: gcc.dg/vect/slp-35.c scan-tree-dump-times vect "vectorized 1 loops" 1
XPASS: gcc.dg/vect/slp-35.c scan-tree-dump-times vect "vectorizing stmts using SLP" 1
XPASS: gcc.dg/vect/slp-multitypes-2.c execution test
XPASS: gcc.dg/vect/no-tree-pre-slp-29.c scan-tree-dump-times vect "vectorized 1 loops" 2
XPASS: gcc.dg/vect/no-tree-pre-slp-29.c scan-tree-dump-times vect "vectorizing stmts using SLP" 2
=== gcc Summary for unix ===
# of expected passes 68848
# of unexpected successes 10
# of expected failures 238
# of unsupported tests 1155
Running target unix/-m64
XPASS: gcc.dg/vect/pr33804.c scan-tree-dump-times vect "vectorized 1 loops" 1
XPASS: gcc.dg/vect/pr33804.c scan-tree-dump-times vect "vectorizing stmts using SLP" 1
XPASS: gcc.dg/vect/vect-peel-1.c scan-tree-dump-times vect "vectorized 1 loops" 2
XPASS: gcc.dg/vect/vect-peel-1.c scan-tree-dump-times vect "Alignment of access forced using peeling" 1
XPASS: gcc.dg/vect/vect-peel-2.c scan-tree-dump-times vect "vectorized 1 loops" 2
XPASS: gcc.dg/vect/vect-vfa-slp.c scan-tree-dump-times vect "vectorized 1 loops" 1
XPASS: gcc.dg/vect/slp-23.c scan-tree-dump-times vect "vectorizing stmts using SLP" 1
XPASS: gcc.dg/vect/slp-24.c scan-tree-dump-times vect "vectorized 1 loops" 1
XPASS: gcc.dg/vect/slp-24.c scan-tree-dump-times vect "vectorizing stmts using SLP" 2
XPASS: gcc.dg/vect/slp-35.c scan-tree-dump-times vect "vectorized 1 loops" 1
XPASS: gcc.dg/vect/slp-35.c scan-tree-dump-times vect "vectorizing stmts using SLP" 1
XPASS: gcc.dg/vect/no-tree-pre-slp-29.c scan-tree-dump-times vect "vectorized 1 loops" 2
XPASS: gcc.dg/vect/no-tree-pre-slp-29.c scan-tree-dump-times vect "vectorizing stmts using SLP" 2
=== gcc Summary for unix/-m64 ===
# of expected passes 69439
# of unexpected successes 13
# of expected failures 230
# of unsupported tests 1163
=== gcc Summary ===
# of expected passes 138287
# of unexpected successes 23
# of expected failures 468
# of unsupported tests 2318
/var/gcc/regression/trunk/10-gcc/build/gcc/xgcc version 4.6.0 20110105 (experimental) [trunk revision 168505] (GCC)
=== gfortran tests ===
Running target unix
=== gfortran Summary for unix ===
# of expected passes 37425
# of expected failures 44
# of unsupported tests 226
Running target unix/-m64
=== gfortran Summary for unix/-m64 ===
# of expected passes 37706
# of expected failures 42
# of unsupported tests 89
=== gfortran Summary ===
# of expected passes 75131
# of expected failures 86
# of unsupported tests 315
/var/gcc/regression/trunk/10-gcc/build/gcc/testsuite/gfortran/../../gfortran version 4.6.0 20110105 (experimental) [trunk revision 168505] (GCC)
=== gnat tests ===
Running target unix
=== gnat Summary for unix ===
# of expected passes 861
# of expected failures 10
# of unsupported tests 4
Running target unix/-m64
=== gnat Summary for unix/-m64 ===
# of expected passes 861
# of expected failures 10
# of unsupported tests 4
=== gnat Summary ===
# of expected passes 1722
# of expected failures 20
# of unsupported tests 8
=== objc tests ===
Running target unix
XPASS: objc.dg-struct-layout-encoding-1/t025_main.m execution test
XPASS: objc.dg-struct-layout-encoding-1/t026_main.m execution test
XPASS: objc.dg-struct-layout-encoding-1/t027_main.m execution test
XPASS: objc.dg-struct-layout-encoding-1/t028_main.m execution test
XPASS: objc.dg-struct-layout-encoding-1/t029_main.m execution test
XPASS: objc.dg-struct-layout-encoding-1/t030_main.m execution test
XPASS: objc.dg-struct-layout-encoding-1/t031_main.m execution test
=== objc Summary for unix ===
# of expected passes 2875
# of unexpected successes 7
# of expected failures 10
# of unsupported tests 74
Running target unix/-m64
XPASS: objc.dg-struct-layout-encoding-1/t025_main.m execution test
XPASS: objc.dg-struct-layout-encoding-1/t026_main.m execution test
XPASS: objc.dg-struct-layout-encoding-1/t027_main.m execution test
XPASS: objc.dg-struct-layout-encoding-1/t028_main.m execution test
XPASS: objc.dg-struct-layout-encoding-1/t029_main.m execution test
XPASS: objc.dg-struct-layout-encoding-1/t030_main.m execution test
XPASS: objc.dg-struct-layout-encoding-1/t031_main.m execution test
=== objc Summary for unix/-m64 ===
# of expected passes 2875
# of unexpected successes 7
# of expected failures 10
# of unsupported tests 74
=== objc Summary ===
# of expected passes 5750
# of unexpected successes 14
# of expected failures 20
# of unsupported tests 148
/var/gcc/regression/trunk/10-gcc/build/gcc/xgcc version 4.6.0 20110105 (experimental) [trunk revision 168505] (GCC)
=== libffi tests ===
Running target unix
=== libffi Summary for unix ===
# of expected passes 1634
# of expected failures 10
# of unsupported tests 15
Running target unix/-m64
=== libffi Summary for unix/-m64 ===
# of expected passes 1634
# of expected failures 10
# of unsupported tests 15
=== libffi Summary ===
# of expected passes 3268
# of expected failures 20
# of unsupported tests 30
=== libgomp tests ===
Running target unix
=== libgomp Summary for unix ===
# of expected passes 2508
# of unsupported tests 9
Running target unix/-m64
=== libgomp Summary for unix/-m64 ===
# of expected passes 2508
# of unsupported tests 9
=== libgomp Summary ===
# of expected passes 5016
# of unsupported tests 18
=== libjava tests ===
Running target unix
=== libjava Summary for unix ===
# of expected passes 2574
Running target unix/-m64
=== libjava Summary for unix/-m64 ===
# of expected passes 2574
=== libjava Summary ===
# of expected passes 5148
=== libstdc++ tests ===
Running target unix
=== libstdc++ Summary for unix ===
# of expected passes 7336
# of expected failures 84
# of unsupported tests 459
Running target unix/-m64
XPASS: 22_locale/num_put/put/char/14220.cc execution test
=== libstdc++ Summary for unix/-m64 ===
# of expected passes 7335
# of unexpected successes 1
# of expected failures 84
# of unsupported tests 459
=== libstdc++ Summary ===
# of expected passes 14671
# of unexpected successes 1
# of expected failures 168
# of unsupported tests 918
Compiler version: 4.6.0 20110105 (experimental) [trunk revision 168505] (GCC)
Platform: sparc-sun-solaris2.10
configure flags: --prefix=/vol/gcc --target=sparc-sun-solaris2.10 --with-gmp=/vol/gcc --with-mpfr=/vol/gcc --with-mpc=/vol/gcc --enable-languages=all,ada
BOOT_CFLAGS=-g -O2
More information about the Gcc-testresults
mailing list