Results for 4.5.3 20110219 (prerelease) [gcc-4_5-branch revision 170320] (GCC) testsuite on hppa64-hp-hpux11.11
John David Anglin
dave@hiauly3.hia.nrc.ca
Sun Feb 20 14:15:00 GMT 2011
Native configuration is hppa64-hp-hpux11.11
=== g++ tests ===
Running target unix
=== g++ Summary ===
# of expected passes 20507
# of expected failures 151
# of unsupported tests 249
/mnt/gnu/gcc/objdir-test/gcc/testsuite/g++/../../g++ version 4.5.3 20110219 (prerelease) [gcc-4_5-branch revision 170320] (GCC)
=== gcc tests ===
Running target unix
XPASS: gcc.dg/funcorder.c scan-assembler-not link_error,%r
WARNING: program timed out.
=== gcc Summary ===
# of expected passes 52653
# of unexpected successes 1
# of expected failures 89
# of unsupported tests 702
/mnt/gnu/gcc/objdir-test/gcc/xgcc version 4.5.3 20110219 (prerelease) [gcc-4_5-branch revision 170320] (GCC)
=== gfortran tests ===
Running target unix
=== gfortran Summary ===
# of expected passes 33221
# of expected failures 20
# of unsupported tests 286
/mnt/gnu/gcc/objdir-test/gcc/testsuite/gfortran/../../gfortran version 4.5.3 20110219 (prerelease) [gcc-4_5-branch revision 170320] (GCC)
=== obj-c++ tests ===
Running target unix
WARNING: obj-c++.dg/lookup-2.mm -fgnu-runtime compilation failed to produce executable
WARNING: obj-c++.dg/try-catch-2.mm -fgnu-runtime compilation failed to produce executable
WARNING: obj-c++.dg/try-catch-9.mm -fgnu-runtime compilation failed to produce executable
=== obj-c++ Summary ===
# of expected passes 432
# of expected failures 11
# of unsupported tests 14
/mnt/gnu/gcc/objdir-test/gcc/testsuite/obj-c++/../../g++ version 4.5.3 20110219 (prerelease) [gcc-4_5-branch revision 170320] (GCC)
=== objc tests ===
Running target unix
=== objc Summary ===
# of expected passes 1872
# of expected failures 15
# of unsupported tests 21
/mnt/gnu/gcc/objdir-test/gcc/xgcc version 4.5.3 20110219 (prerelease) [gcc-4_5-branch revision 170320] (GCC)
=== libgomp tests ===
Running target unix
=== libgomp Summary ===
# of expected passes 2508
# of unsupported tests 9
=== libstdc++ tests ===
Running target unix
=== libstdc++ Summary ===
# of expected passes 6338
# of expected failures 89
# of unsupported tests 616
Compiler version: 4.5.3 20110219 (prerelease) [gcc-4_5-branch revision 170320] (GCC)
Platform: hppa64-hp-hpux11.11
configure flags:Test Run By dave on Sun Feb 20 00:28:27 2011
More information about the Gcc-testresults
mailing list