ACATS results for 20110217 (experimental) [trunk revision 170245] on sparc64-rtems4.11
Joel Sherrill
joel@rtems.org
Sun Feb 20 11:42:00 GMT 2011
HOST: x86_64-unknown-linux-gnu
sparc64-rtems4.11-gcc (GCC) 4.6.0 20110217 (experimental) [trunk revision 170245]
=== acats Summary ===
# of expected passes 2318
# of unexpected failures 1
# of unsupported tests 3
ce2108f - simulator does not have persistent files
ce2108h - simulator does not have persistent files
ce3112d - simulator does not have persistent files
cd2a83c - unknown reason for failure
======= Logs for failed tests ======
More information about the Gcc-testresults
mailing list