[PATCHED,PR30445] Results for 4.5.0 20100318 (experimental) (GCC) testsuite on i686-pc-cygwin (objc, obj-c++ only)
Dave Korn
dave.korn.cygwin@googlemail.com
Tue Mar 23 05:02:00 GMT 2010
Revision: 157534
Native configuration is i686-pc-cygwin
=== obj-c++ tests ===
Running target unix
WARNING: obj-c++.dg/lookup-2.mm compilation failed to produce executable
WARNING: obj-c++.dg/try-catch-2.mm compilation failed to produce executable
WARNING: obj-c++.dg/try-catch-9.mm compilation failed to produce executable
=== obj-c++ Summary ===
# of expected passes 438
# of expected failures 10
# of unsupported tests 13
/gnu/gcc/obj.clean/gcc/testsuite/obj-c++/../../g++ version 4.5.0 20100318
(experimental) (GCC)
=== objc tests ===
Running target unix
=== objc Summary ===
# of expected passes 1967
# of expected failures 7
# of unsupported tests 24
/gnu/gcc/obj.clean/gcc/xgcc version 4.5.0 20100318 (experimental) (GCC)
More information about the Gcc-testresults
mailing list