ACATS results for 20090206 (experimental) [trunk revision 143992] on bfin-rtems4.10

Joel Sherrill <joel.sherrill@rtems.org> joel@rtems.org
Sun Mar 29 00:28:00 GMT 2009


HOST: x86_64-unknown-linux-gnu
bfin-rtems4.10-gcc (GCC) 4.4.0 20090206 (experimental) [trunk revision 143992]

=== acats Summary ===
# of expected passes 2121
# of unexpected failures 191
# of unsupported tests 3

ce2108f - simulator does not have persistent files
ce2108h - simulator does not have persistent files
ce3112d - simulator does not have persistent files
a83a02b - GNAT BUG DETECTED -- follow up required
a87b59a - GNAT BUG DETECTED -- follow up required
a95001c - GNAT BUG DETECTED -- follow up required
a95074d - GNAT BUG DETECTED -- follow up required
a97106a - GNAT BUG DETECTED -- follow up required
a99006a - GNAT BUG DETECTED -- follow up required
ac3207a - GNAT BUG DETECTED -- follow up required
ad7201a - GNAT BUG DETECTED -- follow up required
ad7203b - GNAT BUG DETECTED -- follow up required
ad7205b - GNAT BUG DETECTED -- follow up required
ada101a - GNAT BUG DETECTED -- follow up required
c34007j - GNAT BUG DETECTED -- follow up required
c35102a - GNAT BUG DETECTED -- follow up required
c37402a - GNAT BUG DETECTED -- follow up required
c37403a - GNAT BUG DETECTED -- follow up required
c380004 - GNAT BUG DETECTED -- follow up required
c38102d - GNAT BUG DETECTED -- follow up required
c39008a - GNAT BUG DETECTED -- follow up required
c39008b - GNAT BUG DETECTED -- follow up required
c39008c - GNAT BUG DETECTED -- follow up required
c41307d - GNAT BUG DETECTED -- follow up required
c41401a - GNAT BUG DETECTED -- follow up required
c45282b - GNAT BUG DETECTED -- follow up required
c45291a - GNAT BUG DETECTED -- follow up required
c46051a - GNAT BUG DETECTED -- follow up required
c51004a - GNAT BUG DETECTED -- follow up required
c64201b - GNAT BUG DETECTED -- follow up required
c64201c - GNAT BUG DETECTED -- follow up required
c761007 - GNAT BUG DETECTED -- follow up required
c83023a - GNAT BUG DETECTED -- follow up required
c85004b - GNAT BUG DETECTED -- follow up required
c85005a - GNAT BUG DETECTED -- follow up required
c85005b - GNAT BUG DETECTED -- follow up required
c85005c - GNAT BUG DETECTED -- follow up required
c85005d - GNAT BUG DETECTED -- follow up required
c85005e - GNAT BUG DETECTED -- follow up required
c85006a - GNAT BUG DETECTED -- follow up required
c85006b - GNAT BUG DETECTED -- follow up required
c85006c - GNAT BUG DETECTED -- follow up required
c85006d - GNAT BUG DETECTED -- follow up required
c85006e - GNAT BUG DETECTED -- follow up required
c85014a - GNAT BUG DETECTED -- follow up required
c85014b - GNAT BUG DETECTED -- follow up required
c85018b - GNAT BUG DETECTED -- follow up required
c87b26b - GNAT BUG DETECTED -- follow up required
c87b41a - GNAT BUG DETECTED -- follow up required
c87b45c - GNAT BUG DETECTED -- follow up required
c87b54a - GNAT BUG DETECTED -- follow up required
c87b62d - GNAT BUG DETECTED -- follow up required
c910002 - GNAT BUG DETECTED -- follow up required
c91006a - GNAT BUG DETECTED -- follow up required
c91007a - GNAT BUG DETECTED -- follow up required
c92002a - GNAT BUG DETECTED -- follow up required
c92003a - GNAT BUG DETECTED -- follow up required
c92005a - GNAT BUG DETECTED -- follow up required
c92005b - GNAT BUG DETECTED -- follow up required
c930001 - GNAT BUG DETECTED -- follow up required
c93004a - GNAT BUG DETECTED -- follow up required
c93004b - GNAT BUG DETECTED -- follow up required
c93004c - GNAT BUG DETECTED -- follow up required
c93004d - GNAT BUG DETECTED -- follow up required
c93004f - GNAT BUG DETECTED -- follow up required
c93005a - GNAT BUG DETECTED -- follow up required
c93005b - GNAT BUG DETECTED -- follow up required
c93007a - GNAT BUG DETECTED -- follow up required
c940005 - GNAT BUG DETECTED -- follow up required
c940007 - GNAT BUG DETECTED -- follow up required
c940010 - GNAT BUG DETECTED -- follow up required
c940013 - GNAT BUG DETECTED -- follow up required
c940014 - GNAT BUG DETECTED -- follow up required
c940016 - GNAT BUG DETECTED -- follow up required
c94001g - GNAT BUG DETECTED -- follow up required
c94002b - GNAT BUG DETECTED -- follow up required
c94002d - GNAT BUG DETECTED -- follow up required
c94002e - GNAT BUG DETECTED -- follow up required
c94002f - GNAT BUG DETECTED -- follow up required
c94002g - GNAT BUG DETECTED -- follow up required
c94005b - GNAT BUG DETECTED -- follow up required
c94006a - GNAT BUG DETECTED -- follow up required
c94007a - GNAT BUG DETECTED -- follow up required
c94007b - GNAT BUG DETECTED -- follow up required
c94008a - GNAT BUG DETECTED -- follow up required
c94008c - GNAT BUG DETECTED -- follow up required
c94008d - GNAT BUG DETECTED -- follow up required
c94020a - GNAT BUG DETECTED -- follow up required
c95012a - GNAT BUG DETECTED -- follow up required
c95033b - GNAT BUG DETECTED -- follow up required
c95040a - GNAT BUG DETECTED -- follow up required
c95040d - GNAT BUG DETECTED -- follow up required
c95065a - GNAT BUG DETECTED -- follow up required
c95065b - GNAT BUG DETECTED -- follow up required
c95065c - GNAT BUG DETECTED -- follow up required
c95065d - GNAT BUG DETECTED -- follow up required
c95065e - GNAT BUG DETECTED -- follow up required
c95065f - GNAT BUG DETECTED -- follow up required
c95066a - GNAT BUG DETECTED -- follow up required
c95071a - GNAT BUG DETECTED -- follow up required
c95073a - GNAT BUG DETECTED -- follow up required
c95074c - GNAT BUG DETECTED -- follow up required
c95076a - GNAT BUG DETECTED -- follow up required
c95078a - GNAT BUG DETECTED -- follow up required
c95082g - GNAT BUG DETECTED -- follow up required
c95085a - GNAT BUG DETECTED -- follow up required
c95085b - GNAT BUG DETECTED -- follow up required
c95085c - GNAT BUG DETECTED -- follow up required
c95085d - GNAT BUG DETECTED -- follow up required
c95085e - GNAT BUG DETECTED -- follow up required
c95085f - GNAT BUG DETECTED -- follow up required
c95085g - GNAT BUG DETECTED -- follow up required
c95086a - GNAT BUG DETECTED -- follow up required
c95086b - GNAT BUG DETECTED -- follow up required
c95087a - GNAT BUG DETECTED -- follow up required
c95088a - GNAT BUG DETECTED -- follow up required
c95089a - GNAT BUG DETECTED -- follow up required
c95090a - GNAT BUG DETECTED -- follow up required
c95092a - GNAT BUG DETECTED -- follow up required
c95093a - GNAT BUG DETECTED -- follow up required
c951002 - GNAT BUG DETECTED -- follow up required
c953001 - GNAT BUG DETECTED -- follow up required
c953002 - GNAT BUG DETECTED -- follow up required
c953003 - GNAT BUG DETECTED -- follow up required
c954001 - GNAT BUG DETECTED -- follow up required
c954010 - GNAT BUG DETECTED -- follow up required
c954011 - GNAT BUG DETECTED -- follow up required
c954013 - GNAT BUG DETECTED -- follow up required
c954014 - GNAT BUG DETECTED -- follow up required
c954015 - GNAT BUG DETECTED -- follow up required
c954018 - GNAT BUG DETECTED -- follow up required
c954019 - GNAT BUG DETECTED -- follow up required
c954020 - GNAT BUG DETECTED -- follow up required
c954021 - GNAT BUG DETECTED -- follow up required
c954022 - GNAT BUG DETECTED -- follow up required
c954023 - GNAT BUG DETECTED -- follow up required
c954024 - GNAT BUG DETECTED -- follow up required
c954026 - GNAT BUG DETECTED -- follow up required
c954a01 - GNAT BUG DETECTED -- follow up required
c954a02 - GNAT BUG DETECTED -- follow up required
c954a03 - GNAT BUG DETECTED -- follow up required
c960002 - GNAT BUG DETECTED -- follow up required
c960004 - GNAT BUG DETECTED -- follow up required
c97112a - GNAT BUG DETECTED -- follow up required
c97117a - GNAT BUG DETECTED -- follow up required
c97117b - GNAT BUG DETECTED -- follow up required
c97117c - GNAT BUG DETECTED -- follow up required
c97118a - GNAT BUG DETECTED -- follow up required
c97120a - GNAT BUG DETECTED -- follow up required
c97201b - GNAT BUG DETECTED -- follow up required
c97201c - GNAT BUG DETECTED -- follow up required
c97201d - GNAT BUG DETECTED -- follow up required
c97201e - GNAT BUG DETECTED -- follow up required
c97202a - GNAT BUG DETECTED -- follow up required
c97203c - GNAT BUG DETECTED -- follow up required
c97204a - GNAT BUG DETECTED -- follow up required
c97204b - GNAT BUG DETECTED -- follow up required
c97205a - GNAT BUG DETECTED -- follow up required
c97205b - GNAT BUG DETECTED -- follow up required
c97301c - GNAT BUG DETECTED -- follow up required
c97301d - GNAT BUG DETECTED -- follow up required
c97301e - GNAT BUG DETECTED -- follow up required
c97302a - GNAT BUG DETECTED -- follow up required
c97303c - GNAT BUG DETECTED -- follow up required
c97304a - GNAT BUG DETECTED -- follow up required
c97304b - GNAT BUG DETECTED -- follow up required
c97305a - GNAT BUG DETECTED -- follow up required
c97305b - GNAT BUG DETECTED -- follow up required
c97305c - GNAT BUG DETECTED -- follow up required
c97305d - GNAT BUG DETECTED -- follow up required
c97307a - GNAT BUG DETECTED -- follow up required
c974012 - GNAT BUG DETECTED -- follow up required
c980002 - GNAT BUG DETECTED -- follow up required
c9a003a - GNAT BUG DETECTED -- follow up required
c9a004a - GNAT BUG DETECTED -- follow up required
c9a009a - GNAT BUG DETECTED -- follow up required
c9a009f - GNAT BUG DETECTED -- follow up required
c9a009g - GNAT BUG DETECTED -- follow up required
c9a011a - GNAT BUG DETECTED -- follow up required
cb4013a - GNAT BUG DETECTED -- follow up required
cb5001a - GNAT BUG DETECTED -- follow up required
cb5001b - GNAT BUG DETECTED -- follow up required
cb5002a - GNAT BUG DETECTED -- follow up required
cc1104c - GNAT BUG DETECTED -- follow up required
cc1225a - GNAT BUG DETECTED -- follow up required
cc3106b - GNAT BUG DETECTED -- follow up required
cc3207b - GNAT BUG DETECTED -- follow up required
cd1c03e - GNAT BUG DETECTED -- follow up required
cd1c06a - GNAT BUG DETECTED -- follow up required
cd2a91c - GNAT BUG DETECTED -- follow up required
cd5003e - GNAT BUG DETECTED -- follow up required
cd72a02 - GNAT BUG DETECTED -- follow up required
cxg2006 - GNAT BUG DETECTED -- follow up required
la14010 - GNAT BUG DETECTED -- follow up required

======= Logs for failed tests ======



More information about the Gcc-testresults mailing list