ACATS results for 20090323 (experimental) [trunk revision 145010] on powerpc-rtems4.10
Joel Sherrill <joel.sherrill@rtems.org>
joel@rtems.org
Tue Mar 24 08:33:00 GMT 2009
HOST: i686-pc-linux-gnu
powerpc-rtems4.10-gcc (GCC) 4.4.0 20090323 (experimental) [trunk revision 145010]
=== acats Summary ===
# of expected passes 2310
# of unexpected failures 2
# of unsupported tests 3
ce2108f - simulator does not have persistent files
ce2108h - simulator does not have persistent files
ce3112d - simulator does not have persistent files
c380004 - unknown reason for failure
c974013 - unknown reason for failure
======= Logs for failed tests ======
More information about the Gcc-testresults
mailing list