Results for 4.4.0 20090313 (experimental) [trunk revision 144848] (GCC) testsuite on hppa2.0-unknown-linux-gnu

Laurent GUERBY gcc61 guerby@k2000.esiee.fr
Sat Mar 14 18:17:00 GMT 2009


LAST_UPDATED: Fri Mar 13 20:40:49 UTC 2009 (revision 144848)

		=== acats tests ===

		=== acats Summary ===
# of expected passes		2315
# of unexpected failures	0
Native configuration is hppa2.0-unknown-linux-gnu

		=== gcc tests ===


Running target unix
XPASS: gcc.dg/tree-ssa/loop-1.c scan-assembler-times foo 5

		=== gcc Summary ===

# of expected passes		49190
# of unexpected successes	1
# of expected failures		128
# of unsupported tests		512
/home/guerby/build/gcc/xgcc  version 4.4.0 20090313 (experimental) [trunk revision 144848] (GCC) 

		=== gnat tests ===


Running target unix

		=== gnat Summary ===

# of expected passes		611
# of expected failures		6
		=== libgomp tests ===


Running target unix

		=== libgomp Summary ===

# of expected passes		236
# of unsupported tests		7
		=== libmudflap tests ===


Running target unix

		=== libmudflap Summary ===

# of expected passes		1740
# of unsupported tests		2

Compiler version: 4.4.0 20090313 (experimental) [trunk revision 144848] (GCC) 
Platform: hppa2.0-unknown-linux-gnu
configure flags: --prefix=/n/61/guerby/install-trunk --enable-languages=c,ada --enable-__cxa_atexit --disable-nls --enable-threads=posix --with-mpfr=/opt/cfarm/mpfr-2.3.2



More information about the Gcc-testresults mailing list