ACATS results for 20090303 (experimental) [trunk revision 144581] on sparc-rtems4.10
Joel Sherrill <joel.sherrill@rtems.org>
joel@rtems.org
Wed Mar 4 04:00:00 GMT 2009
HOST: i686-pc-linux-gnu
sparc-rtems4.10-gcc (GCC) 4.4.0 20090303 (experimental) [trunk revision 144581]
=== acats Summary ===
# of expected passes 2302
# of unexpected failures 8
# of unsupported tests 5
ce2108f - simulator does not have persistent files
ce2108h - simulator does not have persistent files
ce3112d - simulator does not have persistent files
cxg2012 - FP exception - SIS simulator is not accurate enough
cxg2017 - FP exception - SIS simulator is not accurate enough
c37213j - address exception
c37213k - alignment exception
c380004 - unknown reason for failure
c47007a - alignment exception
c47009a - alignment exception
c761006 - unknown reason for failure
c953002 - ran too long, may eventually finish
cxg2006 - GNAT BUG DETECTED -- follow up required
======= Logs for failed tests ======
More information about the Gcc-testresults
mailing list