Results for 4.3.4 20090228 (prerelease) [gcc-4_3-branch revision 144484] (GCC) testsuite on hppa64-hp-hpux11.11

John David Anglin dave@hiauly3.hia.nrc.ca
Sun Mar 1 23:42:00 GMT 2009


LAST_UPDATED: Sat Feb 28 02:02:55 UTC 2009 (revision 144484)

Native configuration is hppa64-hp-hpux11.11

		=== g++ tests ===


Running target unix
XPASS: g++.dg/eh/weak1.C execution test
XPASS: g++.old-deja/g++.pt/static6.C (test for excess errors)

		=== g++ Summary ===

# of expected passes		16672
# of unexpected successes	2
# of expected failures		84
# of unsupported tests		182
/mnt/gnu/gcc/objdir/gcc/testsuite/g++/../../g++  version 4.3.4 20090228 (prerelease) [gcc-4_3-branch revision 144484] (GCC) 

		=== gcc tests ===


Running target unix
XPASS: gcc.dg/cpp/cmdlne-dI-M.c scan-file (^|\\\\n)cmdlne-dI-M.*:[^\\\\n]*cmdlne-dI-M.c
XPASS: gcc.dg/cpp/cmdlne-dM-M.c scan-file (^|\\\\n)cmdlne-dM-M[^\\\\n]*:[^\\\\n]*cmdlne-dM-M.c
XPASS: gcc.dg/funcorder.c scan-assembler-not link_error,%r

		=== gcc Summary ===

# of expected passes		45479
# of unexpected successes	3
# of expected failures		92
# of untested testcases		35
# of unsupported tests		418
/mnt/gnu/gcc/objdir/gcc/xgcc  version 4.3.4 20090228 (prerelease) [gcc-4_3-branch revision 144484] (GCC) 

		=== gfortran tests ===


Running target unix

		=== gfortran Summary ===

# of expected passes		24514
# of expected failures		3
# of unsupported tests		162
/mnt/gnu/gcc/objdir/gcc/testsuite/gfortran/../../gfortran  version 4.3.4 20090228 (prerelease) [gcc-4_3-branch revision 144484] (GCC) 

		=== obj-c++ tests ===


Running target unix
WARNING: obj-c++.dg/lookup-2.mm compilation failed to produce executable
WARNING: obj-c++.dg/try-catch-2.mm compilation failed to produce executable
WARNING: obj-c++.dg/try-catch-9.mm compilation failed to produce executable

		=== obj-c++ Summary ===

# of expected passes		423
# of expected failures		23
# of unsupported tests		13
/mnt/gnu/gcc/objdir/gcc/testsuite/obj-c++/../../g++  version 4.3.4 20090228 (prerelease) [gcc-4_3-branch revision 144484] (GCC) 

		=== objc tests ===


Running target unix

		=== objc Summary ===

# of expected passes		1810
# of expected failures		7
# of unsupported tests		25
/mnt/gnu/gcc/objdir/gcc/xgcc  version 4.3.4 20090228 (prerelease) [gcc-4_3-branch revision 144484] (GCC) 

		=== libgomp tests ===


Running target unix

		=== libgomp Summary ===

# of expected passes		1749
# of unsupported tests		7
		=== libstdc++ tests ===


Running target unix

		=== libstdc++ Summary ===

# of expected passes		4898
# of expected failures		59
# of unsupported tests		345

Compiler version: 4.3.4 20090228 (prerelease) [gcc-4_3-branch revision 144484] (GCC) 
Platform: hppa64-hp-hpux11.11
configure flags: --with-gnu-as --with-as=/opt/gnu64/bin/as --with-ld=/usr/ccs/bin/ld --enable-shared --with-local-prefix=/opt/gnu64 --prefix=/opt/gnu64/gcc/gcc-4.3.4 --host=hppa64-hp-hpux11.11 --enable-threads=posix --disable-nls --with-gmp=/opt/gnu64/gcc/gcc-4.3.4 -enable-languages=c,c++,objc,obj-c++,fortran



More information about the Gcc-testresults mailing list