ACATS results for 20090130 (experimental) [trunk revision 143810] on mips-rtems4.10
Joel Sherrill <joel.sherrill@rtems.org>
joel@rtems.org
Sat Jan 31 15:58:00 GMT 2009
HOST: x86_64-unknown-linux-gnu
mips-rtems4.10-gcc (GCC) 4.4.0 20090130 (experimental) [trunk revision 143810]
=== acats Summary ===
======= Logs for failed tests ======
More information about the Gcc-testresults
mailing list