ACATS results for 20090127 (experimental) [trunk revision 143711] on powerpc-rtems4.10
Joel Sherrill <joel.sherrill@rtems.org>
joel@rtems.org
Wed Jan 28 00:13:00 GMT 2009
HOST: i686-pc-linux-gnu
powerpc-rtems4.10-gcc (GCC) 4.4.0 20090127 (experimental) [trunk revision 143711]
=== acats Summary ===
======= Logs for failed tests ======
More information about the Gcc-testresults
mailing list