ACATS results for 20090226 (experimental) [trunk revision 144455] on mips-rtems4.10
Joel Sherrill <joel.sherrill@rtems.org>
joel@rtems.org
Fri Feb 27 17:08:00 GMT 2009
HOST: i686-pc-linux-gnu
mips-rtems4.10-gcc (GCC) 4.4.0 20090226 (experimental) [trunk revision 144455]
=== acats Summary ===
======= Logs for failed tests ======
More information about the Gcc-testresults
mailing list