ACATS results for 20090130 (experimental) [trunk revision 143810] on i386-rtems4.10
Joel Sherrill <joel.sherrill@rtems.org>
joel@rtems.org
Sun Feb 1 06:16:00 GMT 2009
HOST: x86_64-unknown-linux-gnu
i386-rtems4.10-gcc (GCC) 4.4.0 20090130 (experimental) [trunk revision 143810]
=== acats Summary ===
======= Logs for failed tests ======
More information about the Gcc-testresults
mailing list