Results for 4.5.0 20090328 (experimental) [trunk revision 145196] (GCC) testsuite on hppa-unknown-linux-gnu
John David Anglin
dave@gsyprf11.external.hp.com
Wed Apr 8 00:09:00 GMT 2009
LAST_UPDATED: Tue Apr 7 00:58:25 UTC 2009 (revision 145196)
Native configuration is hppa-unknown-linux-gnu
=== gcc tests ===
Running target unix
XPASS: gcc.dg/tree-ssa/loop-1.c scan-assembler-times foo 5
=== gcc Summary ===
# of expected passes 49295
# of unexpected successes 1
# of expected failures 128
# of unsupported tests 513
/home/dave/gcc-4.5/objdir/gcc/xgcc version 4.5.0 20090328 (experimental) [trunk revision 145196] (GCC)
=== libgomp tests ===
Running target unix
=== libgomp Summary ===
# of expected passes 240
# of unsupported tests 7
=== libmudflap tests ===
Running target unix
=== libmudflap Summary ===
# of expected passes 1740
# of unsupported tests 2
Compiler version: 4.5.0 20090328 (experimental) [trunk revision 145196] (GCC)
Platform: hppa-unknown-linux-gnu
configure flags: --with-gnu-as --with-gnu-ld --enable-shared --enable-nls --prefix=/home/dave/opt/gnu/gcc/gcc-4.5.0 --with-local-prefix=/home/dave/opt/gnu --enable-threads=posix --enable-__cxa_atexit --build=hppa-linux --enable-clocale=gnu --enable-java-gc=boehm --enable-java-awt=xlib --enable-languages=c --disable-libstdcxx-pch
More information about the Gcc-testresults
mailing list