ACATS results for 20080922 (experimental) [trunk revision 140559] on sparc-rtems4.10
joel@gcc12.fsffrance.org
joel@gcc12.fsffrance.org
Tue Sep 23 02:30:00 GMT 2008
sparc-rtems4.10-gcc (GCC) 4.4.0 20080922 (experimental) [trunk revision 140559]
=== acats Summary ===
# of expected passes 2302
# of unexpected failures 10
# of unsupported tests 3
ce2108f - simulator does not have persistent files
ce2108h - simulator does not have persistent files
ce3112d - simulator does not have persistent files
c37213j - address exception
c37213k - alignment exception
c380004 - unknown reason for failure
c41328a - unknown reason for failure
c47007a - alignment exception
c47009a - alignment exception
c761006 - unknown reason for failure
c953002 - ran too long, may eventually finish
cd1c04e - unknown reason for failure
cxg2006 - GNAT BUG DETECTED -- follow up required
======= Logs for failed tests ======
More information about the Gcc-testresults
mailing list