Results for gcc version 4.4.0 20080901 (experimental) (GCC) gcc testsuite on crx-unknown-elf
M R Swami Reddy
MR.Swami.Reddy@nsc.com
Tue Sep 2 10:36:00 GMT 2008
Hello,
GNU Make 3.81
expect version 5.38.0
host gcc version: gcc version 4.4.0 20080901 (experimental) (GCC)
Target is crx-unknown-elf
Host is i686-pc-linux-gnu
=== gcc Summary ===
# of expected passes 44499
# of unexpected failures 843
# of expected failures 112
# of unresolved testcases 279
# of unsupported tests 571
/scratch/user/swami/crx/CR_R_gcc-4.3-branch/b-native-trunk/gcc/xgcc version
4.4.0 20080901 (experimental) (GCC)
=== g++ Summary ===
# of expected passes 15261
# of unexpected failures 968
# of expected failures 80
# of unresolved testcases 169
# of unsupported tests 182
/scratch/user/swami/crx/CR_R_gcc-4.3-branch/b-native-trunk/gcc/testsuite/g++/../../g++
version 4.4.0 20080901 (experimental) (GCC)
Attached the fail-log.
Thanks
Swami
-------------- next part --------------
An embedded and charset-unspecified text was scrubbed...
Name: fail-log
URL: <http://gcc.gnu.org/pipermail/gcc-testresults/attachments/20080902/20d77aca/attachment.ksh>
More information about the Gcc-testresults
mailing list