ACATS results for 20080831 (experimental) [trunk revision 139833] on powerpc-rtems4.9
joel@gcc11.fsffrance.org
joel@gcc11.fsffrance.org
Mon Sep 1 06:43:00 GMT 2008
powerpc-rtems4.9-gcc (GCC) 4.4.0 20080831 (experimental) [trunk revision 139833]
=== acats Summary ===
# of expected passes 2307
# of unexpected failures 5
# of unsupported tests 3
ce2108f - simulator does not have persistent files
ce2108h - simulator does not have persistent files
ce3112d - simulator does not have persistent files
c41328a - INCORRECT RESULTS FROM DERIVED SUBPROGRAM - 3.
cxa9002 - GNAT BUG DETECTED -- follow up required
cxaa012 - unknown reason for failure
cxf3003 - unknown reason for failure
la14021 - GNAT BUG DETECTED -- follow up required
======= Logs for failed tests ======
More information about the Gcc-testresults
mailing list