ACATS results for 20081028 (experimental) [trunk revision 141408] on powerpc-rtems4.10
Joel Sherrill
joel.sherrill@oarcorp.com
Wed Oct 29 15:14:00 GMT 2008
powerpc-rtems4.10-gcc (GCC) 4.4.0 20081028 (experimental) [trunk revision 141408]
=== acats Summary ===
# of expected passes 2306
# of unexpected failures 6
# of unsupported tests 3
ce2108f - simulator does not have persistent files
ce2108h - simulator does not have persistent files
ce3112d - simulator does not have persistent files
c380004 - unknown reason for failure
c41328a - INCORRECT RESULTS FROM DERIVED SUBPROGRAM - 3.
c974013 - unknown reason for failure
cxg2018 - unknown reason for failure
cxg2019 - unknown reason for failure
cxg2021 - unknown reason for failure
======= Logs for failed tests ======
More information about the Gcc-testresults
mailing list