Results for 4.2.5 20081113 (prerelease) gcc testsuite on mips-unknown-elf
Mike Stein
mstein.lists@googlemail.com
Fri Nov 14 22:56:00 GMT 2008
Debian 4 on x86_64
cross tool versions:
GNU assembler (GNU Binutils) 2.18.50.20080419
GNU gdb 6.8.50.20080419-cvs
GNU ld (GNU Binutils) 2.18.50.20080419
GNU Make 3.81
expect version 5.43.0
host gcc version: gcc (GCC) 4.4.0 20081113 (experimental) [trunk revision 141837]
LAST_UPDATED: Thu Nov 13 23:05:28 UTC 2008 (revision 141837)
Target is mips-unknown-elf
Host is x86_64-unknown-linux-gnu
=== gcc tests ===
Running target mips-sim
UNRESOLVED: gcc.c-torture/execute/mayalias-2.c execution, -O3 -g
XPASS: gcc.dg/tree-ssa/20040204-1.c scan-tree-dump-times link_error 0
=== gcc Summary ===
# of expected passes 40992
# of unexpected successes 1
# of expected failures 78
# of unresolved testcases 1
# of untested testcases 28
# of unsupported tests 377
/home/mstein/sim/gcc-4_2-branch/mips-elf/build/gcc/xgcc version 4.2.5 20081113 (prerelease)
Compiler version: 4.2.5 20081113 (prerelease) gcc
Platform: mips-unknown-elf
configure flags: --target=mips-elf --prefix=/home/mstein/cross-local/mips-elf --disable-nls --disable-build-warnings --with-sysroot=/home/mstein/cross-local/mips-elf --with-build-sysroot=/home/mstein/cross-local/mips-elf --with-ld=/home/mstein/cross-local/mips-elf/usr/bin/ld --with-as=/home/mstein/cross-local/mips-elf/usr/bin/as --disable-libssp --with-mpfr=/opt/cfarm/mpfr-2.3.1 --enable-languages=c
More information about the Gcc-testresults
mailing list