ACATS results for on powerpc-rtems4.9
Joel Sherrill
joel.sherrill@oarcorp.com
Wed Nov 5 14:27:00 GMT 2008
powerpc-rtems4.9-gcc (GCC) 4.3.2
=== acats Summary ===
# of expected passes 2306
# of unexpected failures 6
# of unsupported tests 3
ce2108f - simulator does not have persistent files
ce2108h - simulator does not have persistent files
ce3112d - simulator does not have persistent files
c380004 - unknown reason for failure
c3a1002 - unknown reason for failure
c974013 - unknown reason for failure
cxg2018 - unknown reason for failure
cxg2019 - unknown reason for failure
cxg2021 - unknown reason for failure
======= Logs for failed tests ======
More information about the Gcc-testresults
mailing list