ACATS results for 20081219 (experimental) [trunk revision 142836] on sparc-rtems4.10

joel@gcc12.fsffrance.org joel@gcc12.fsffrance.org
Mon Dec 22 11:15:00 GMT 2008


sparc-rtems4.10-gcc (GCC) 4.4.0 20081219 (experimental) [trunk revision 142836]

=== acats Summary ===
# of expected passes 2303
# of unexpected failures 9
# of unsupported tests 3

ce2108f - simulator does not have persistent files
ce2108h - simulator does not have persistent files
ce3112d - simulator does not have persistent files
c37213j - address exception
c37213k - alignment exception
c380004 - unknown reason for failure
c47007a - alignment exception
c47009a - alignment exception
c761006 - unknown reason for failure
c953002 - ran too long, may eventually finish
c974013 - unknown reason for failure
cxg2006 - GNAT BUG DETECTED -- follow up required

======= Logs for failed tests ======



More information about the Gcc-testresults mailing list