Results for 4.4.0 20081219 (experimental) [trunk revision 142835] (GCC) testsuite on powerpc-unknown-rtems4.10

Joel Sherrill <joel.sherrill@oarcorp.com> joel@oarcorp.com
Fri Dec 19 17:21:00 GMT 2008


LAST_UPDATED: Fri Dec 19 15:12:10 UTC 2008 (revision 142835)

Target is powerpc-unknown-rtems4.10
Host   is i686-pc-linux-gnu

		=== gcc tests ===


Running target rtems-powerpc-psim

		=== gcc Summary ===

# of unsupported tests		31
/home/joel/work-gnat/svn/b-gcc1-powerpc/gcc/xgcc  version 4.4.0 20081219 (experimental) [trunk revision 142835] (GCC) 

Host   is i686-pc-linux-gnu

		=== g++ tests ===


Running target rtems-powerpc-psim

		=== g++ Summary ===

/home/joel/work-gnat/svn/b-gcc1-powerpc/gcc/testsuite/g++/../../g++  version 4.4.0 20081219 (experimental) [trunk revision 142835] (GCC) 


Compiler version: 4.4.0 20081219 (experimental) [trunk revision 142835] (GCC) 
Platform: powerpc-unknown-rtems4.10
configure flags: --enable-threads=rtems --with-gnu-as --enable-multilib --enable-newlib-mb --enable-newlib-iconv --with-gnu-ld --with-newlib --verbose --with-system-zlib --disable-nls --enable-version-specific-runtime-libs --enable-languages=c,c++ --target=powerpc-rtems4.10 --prefix=/home/joel/work-gnat/svn//install



More information about the Gcc-testresults mailing list