ACATS results for 20081209 (experimental) [trunk revision 142610] on powerpc-rtems4.10

joel@gcc12.fsffrance.org joel@gcc12.fsffrance.org
Fri Dec 19 09:38:00 GMT 2008


powerpc-rtems4.10-gcc (GCC) 4.4.0 20081209 (experimental) [trunk revision 142610]

=== acats Summary ===
# of expected passes 1966
# of unexpected failures 346
# of unsupported tests 3

ce2108f - simulator does not have persistent files
ce2108h - simulator does not have persistent files
ce3112d - simulator does not have persistent files
a49027c - unknown reason for failure
a97106a - unknown reason for failure
aa2012a - unknown reason for failure
ac3207a - unknown reason for failure
ad8011a - unknown reason for failure
c32001e - unknown reason for failure
c32112b - unknown reason for failure
c32115a - unknown reason for failure
c330002 - unknown reason for failure
c34001c - unknown reason for failure
c34003a - unknown reason for failure
c34005a - unknown reason for failure
c34005d - unknown reason for failure
c34005g - unknown reason for failure
c34005p - unknown reason for failure
c34005s - unknown reason for failure
c34006f - unknown reason for failure
c34007s - unknown reason for failure
c34011b - unknown reason for failure
c34014n - unknown reason for failure
c341a01 - unknown reason for failure
c35102a - unknown reason for failure
c354003 - unknown reason for failure
c35503c - unknown reason for failure
c35503e - unknown reason for failure
c35503f - unknown reason for failure
c35503g - unknown reason for failure
c35a05n - unknown reason for failure
c36172a - unknown reason for failure
c36172b - unknown reason for failure
c36204a - unknown reason for failure
c36205a - unknown reason for failure
c36205d - unknown reason for failure
c36205f - unknown reason for failure
c36205k - unknown reason for failure
c37211b - unknown reason for failure
c37211c - unknown reason for failure
c37213f - unknown reason for failure
c37213h - unknown reason for failure
c37213j - address exception
c37213k - alignment exception
c380001 - unknown reason for failure
c380003 - unknown reason for failure
c380004 - unknown reason for failure
c391001 - unknown reason for failure
c392011 - unknown reason for failure
c393008 - unknown reason for failure
c393011 - unknown reason for failure
c393a02 - unknown reason for failure
c3a0007 - unknown reason for failure
c3a0013 - unknown reason for failure
c3a1001 - unknown reason for failure
c3a2001 - unknown reason for failure
c41104a - unknown reason for failure
c41303o - unknown reason for failure
c41401a - unknown reason for failure
c420001 - unknown reason for failure
c43204e - unknown reason for failure
c43204g - unknown reason for failure
c43210a - unknown reason for failure
c43224a - unknown reason for failure
c450001 - unknown reason for failure
c45231d - unknown reason for failure
c45242b - unknown reason for failure
c45262d - unknown reason for failure
c45342a - unknown reason for failure
c45411c - unknown reason for failure
c45503b - unknown reason for failure
c45614a - unknown reason for failure
c45624a - unknown reason for failure
c45672a - unknown reason for failure
c460005 - unknown reason for failure
c460009 - unknown reason for failure
c46041a - unknown reason for failure
c46043b - unknown reason for failure
c47008a - unknown reason for failure
c48009b - unknown reason for failure
c52009a - unknown reason for failure
c52102c - unknown reason for failure
c52102d - unknown reason for failure
c52103b - unknown reason for failure
c52103p - unknown reason for failure
c52104g - unknown reason for failure
c52104l - unknown reason for failure
c52104r - unknown reason for failure
c54a23a - unknown reason for failure
c55b06a - unknown reason for failure
c64005c - WRONG ITERATIVE TRACE LENGTH.
c64104b - unknown reason for failure
c64104c - unknown reason for failure
c64106b - unknown reason for failure
c64201b - unknown reason for failure
c64201c - unknown reason for failure
c67003f - unknown reason for failure
c730002 - unknown reason for failure
c731001 - unknown reason for failure
c760007 - unknown reason for failure
c760010 - unknown reason for failure
c761007 - unknown reason for failure
c83007a - unknown reason for failure
c83027a - unknown reason for failure
c83030a - unknown reason for failure
c83030c - unknown reason for failure
c85006b - unknown reason for failure
c85006c - unknown reason for failure
c85006e - unknown reason for failure
c85006g - unknown reason for failure
c85018a - unknown reason for failure
c91007a - unknown reason for failure
c930001 - unknown reason for failure
c93005d - unknown reason for failure
c93008a - unknown reason for failure
c93008b - unknown reason for failure
c940001 - unknown reason for failure
c940005 - unknown reason for failure
c940006 - unknown reason for failure
c940007 - unknown reason for failure
c940010 - unknown reason for failure
c940011 - unknown reason for failure
c940012 - unknown reason for failure
c940013 - unknown reason for failure
c940014 - unknown reason for failure
c940015 - unknown reason for failure
c940016 - unknown reason for failure
c94001a - unknown reason for failure
c94001b - unknown reason for failure
c94001c - unknown reason for failure
c94001g - unknown reason for failure
c94002a - unknown reason for failure
c94002b - unknown reason for failure
c94002e - unknown reason for failure
c94002f - unknown reason for failure
c94002g - unknown reason for failure
c94005b - unknown reason for failure
c94006a - unknown reason for failure
c94007a - unknown reason for failure
c94007b - unknown reason for failure
c94008b - unknown reason for failure
c94008c - unknown reason for failure
c94008d - unknown reason for failure
c94010a - unknown reason for failure
c95008a - unknown reason for failure
c95011a - unknown reason for failure
c95012a - unknown reason for failure
c95021a - unknown reason for failure
c95034a - unknown reason for failure
c95034b - unknown reason for failure
c95035a - unknown reason for failure
c95040b - unknown reason for failure
c95040c - unknown reason for failure
c95071a - unknown reason for failure
c95087b - unknown reason for failure
c95092a - unknown reason for failure
c95095d - unknown reason for failure
c951001 - unknown reason for failure
c951002 - unknown reason for failure
c953001 - unknown reason for failure
c954001 - unknown reason for failure
c954010 - unknown reason for failure
c954011 - unknown reason for failure
c954012 - unknown reason for failure
c954013 - unknown reason for failure
c954014 - unknown reason for failure
c954015 - unknown reason for failure
c954016 - unknown reason for failure
c954017 - unknown reason for failure
c954018 - unknown reason for failure
c954019 - unknown reason for failure
c954020 - unknown reason for failure
c954021 - unknown reason for failure
c954022 - unknown reason for failure
c954023 - unknown reason for failure
c954024 - unknown reason for failure
c954025 - unknown reason for failure
c954026 - unknown reason for failure
c954a01 - unknown reason for failure
c954a02 - unknown reason for failure
c954a03 - unknown reason for failure
c960001 - unknown reason for failure
c960002 - unknown reason for failure
c960004 - unknown reason for failure
c96001a - unknown reason for failure
c96004a - unknown reason for failure
c97112a - unknown reason for failure
c97113a - unknown reason for failure
c97114a - unknown reason for failure
c97115a - unknown reason for failure
c97116a - unknown reason for failure
c97117b - unknown reason for failure
c97117c - unknown reason for failure
c97118a - unknown reason for failure
c97120a - unknown reason for failure
c97120b - unknown reason for failure
c97201b - unknown reason for failure
c97201d - unknown reason for failure
c97203a - unknown reason for failure
c97203b - unknown reason for failure
c97204a - unknown reason for failure
c97205a - unknown reason for failure
c97205b - unknown reason for failure
c97301a - unknown reason for failure
c97301b - unknown reason for failure
c97301c - unknown reason for failure
c97301d - unknown reason for failure
c97301e - unknown reason for failure
c97302a - unknown reason for failure
c97303a - unknown reason for failure
c97303b - unknown reason for failure
c97303c - unknown reason for failure
c97304a - unknown reason for failure
c97304b - unknown reason for failure
c97305a - unknown reason for failure
c97305b - unknown reason for failure
c97305c - unknown reason for failure
c97305d - unknown reason for failure
c97307a - unknown reason for failure
c974001 - unknown reason for failure
c974002 - unknown reason for failure
c974013 - unknown reason for failure
c99004a - unknown reason for failure
c99005a - unknown reason for failure
c9a003a - unknown reason for failure
c9a007a - unknown reason for failure
c9a011b - unknown reason for failure
ca13001 - unknown reason for failure
cb20005 - unknown reason for failure
cb20006 - unknown reason for failure
cb20007 - unknown reason for failure
cb41001 - unknown reason for failure
cc1224a - unknown reason for failure
cc1227a - unknown reason for failure
cc3007b - unknown reason for failure
cc3016b - unknown reason for failure
cc3017b - unknown reason for failure
cc3019c - unknown reason for failure
cc3121a - unknown reason for failure
cc3305a - unknown reason for failure
cc3603a - unknown reason for failure
cc40001 - unknown reason for failure
cc51003 - unknown reason for failure
cd1009a - unknown reason for failure
cd2a21a - unknown reason for failure
cd2a24e - unknown reason for failure
cd2a31c - unknown reason for failure
cd2a32a - unknown reason for failure
cd2a91c - unknown reason for failure
cd2b11e - unknown reason for failure
cd2d11a - unknown reason for failure
cd5003a - unknown reason for failure
cd5011m - unknown reason for failure
cd72a02 - unknown reason for failure
cda201e - unknown reason for failure
cdd2001 - unknown reason for failure
cdd2a01 - unknown reason for failure
cdd2a02 - unknown reason for failure
ce2102c - unknown reason for failure
ce2109b - unknown reason for failure
ce2201e - unknown reason for failure
ce2401e - unknown reason for failure
ce2402a - unknown reason for failure
ce2407b - unknown reason for failure
ce2409a - unknown reason for failure
ce2409b - unknown reason for failure
ce3106b - unknown reason for failure
ce3108a - unknown reason for failure
ce3403b - unknown reason for failure
ce3403f - unknown reason for failure
ce3605b - unknown reason for failure
ce3605e - unknown reason for failure
ce3606a - unknown reason for failure
ce3705a - unknown reason for failure
ce3705c - unknown reason for failure
ce3705d - unknown reason for failure
ce3705e - unknown reason for failure
ce3706d - unknown reason for failure
ce3707a - unknown reason for failure
ce3801a - unknown reason for failure
ce3804b - unknown reason for failure
ce3804e - unknown reason for failure
ce3804p - unknown reason for failure
ce3806h - unknown reason for failure
ce3809a - unknown reason for failure
ce3815a - unknown reason for failure
ce3901a - unknown reason for failure
ce3902b - unknown reason for failure
ce3904b - unknown reason for failure
ce3906a - unknown reason for failure
ce3906c - unknown reason for failure
ce3906d - unknown reason for failure
ce3906e - unknown reason for failure
ce3906f - unknown reason for failure
cxa3002 - unknown reason for failure
cxa3003 - unknown reason for failure
cxa4008 - unknown reason for failure
cxa4011 - unknown reason for failure
cxa4014 - unknown reason for failure
cxa4016 - unknown reason for failure
cxa4023 - unknown reason for failure
cxa4027 - unknown reason for failure
cxa5011 - unknown reason for failure
cxa5012 - unknown reason for failure
cxa5a01 - unknown reason for failure
cxa5a02 - unknown reason for failure
cxa5a03 - unknown reason for failure
cxa5a04 - unknown reason for failure
cxa5a05 - unknown reason for failure
cxa5a06 - unknown reason for failure
cxa5a07 - unknown reason for failure
cxa5a08 - unknown reason for failure
cxa5a09 - unknown reason for failure
cxa5a10 - unknown reason for failure
cxaa002 - unknown reason for failure
cxaa010 - unknown reason for failure
cxaa011 - unknown reason for failure
cxaa015 - unknown reason for failure
cxaa016 - unknown reason for failure
cxac002 - unknown reason for failure
cxacb02 - unknown reason for failure
cxb3004 - unknown reason for failure
cxb3009 - unknown reason for failure
cxb3010 - unknown reason for failure
cxb3011 - unknown reason for failure
cxb3012 - unknown reason for failure
cxb3014 - unknown reason for failure
cxb3016 - unknown reason for failure
cxb4004 - unknown reason for failure
cxb4006 - unknown reason for failure
cxb4008 - unknown reason for failure
cxb5001 - unknown reason for failure
cxf2001 - unknown reason for failure
cxf3002 - unknown reason for failure
cxf3004 - unknown reason for failure
cxf3a03 - unknown reason for failure
cxf3a05 - unknown reason for failure
cxg1001 - unknown reason for failure
cxg1004 - unknown reason for failure
cxg2001 - unknown reason for failure
cxg2013 - unknown reason for failure
cxg2014 - FP exception - SIS simulator is not accurate enough
cxg2018 - unknown reason for failure
cxg2019 - unknown reason for failure
cxg2021 - unknown reason for failure
cxh1001 - unknown reason for failure
e52103y - unknown reason for failure
la14014 - unknown reason for failure
la14026 - unknown reason for failure

======= Logs for failed tests ======



More information about the Gcc-testresults mailing list