ACATS results for 20081210 (experimental) [trunk revision 142643] on sh-rtems4.10

Joel Sherrill joel.sherrill@oarcorp.com
Wed Dec 10 19:10:00 GMT 2008


sh-rtems4.10-gcc (GCC) 4.4.0 20081210 (experimental) [trunk revision 142643]

=== acats Summary ===
# of expected passes 2307
# of unexpected failures 5
# of unsupported tests 3

ce2108f - simulator does not have persistent files
ce2108h - simulator does not have persistent files
ce3112d - simulator does not have persistent files
c380004 - Memory exception at 44000 (illegal address)
c953002 - ran too long, may eventually finish simsh1:c953002: Memory exception at 44000 (illegal address)
c974013 - Memory exception at 44000 (illegal address)
cxg2018 - Memory exception at 44000 (illegal address)
cxg2021 - Memory exception at 44000 (illegal address)

======= Logs for failed tests ======



More information about the Gcc-testresults mailing list