ACATS results for 20080821 (experimental) [trunk revision 139415] on powerpc-rtems4.9
Joel Sherrill
joel.sherrill@oarcorp.com
Fri Aug 22 12:06:00 GMT 2008
powerpc-rtems4.9-gcc (GCC) 4.4.0 20080821 (experimental) [trunk revision 139415]
=== acats Summary ===
# of expected passes 2307
# of unexpected failures 5
# of unsupported tests 3
ce2108f - simulator does not have persistent files
ce2108h - simulator does not have persistent files
ce3112d - simulator does not have persistent files
c41328a - INCORRECT RESULTS FROM DERIVED SUBPROGRAM - 3.
c974013 - unknown reason for failure
cd2a24e - GNAT BUG DETECTED -- follow up required
cxa9002 - GNAT BUG DETECTED -- follow up required
la14021 - GNAT BUG DETECTED -- follow up required
======= Logs for failed tests ======
More information about the Gcc-testresults
mailing list