ACATS results for 20080809 (experimental) [trunk revision 138905] on mips-rtems4.9
Joel Sherrill
joel.sherrill@oarcorp.com
Mon Aug 11 13:19:00 GMT 2008
mips-rtems4.9-gcc (GCC) 4.4.0 20080809 (experimental) [trunk revision 138905]
=== acats Summary ===
# of expected passes 2308
# of unexpected failures 4
# of unsupported tests 3
ce2108f - simulator does not have persistent files
ce2108h - simulator does not have persistent files
ce3112d - simulator does not have persistent files
cd1c04e - unknown reason for failure
cd2a24e - GNAT BUG DETECTED -- follow up required
cxf3a01 - read from bad address
cxf3a02 - read from bad address
======= Logs for failed tests ======
More information about the Gcc-testresults
mailing list