Results for 4.2.2 20071005 (prerelease) gcc testsuite on mips-unknown-elf
Mike Stein
mstein@phenix.rootshell.be
Sat Oct 6 21:50:00 GMT 2007
Debian 4 on x86_64
cross tool versions:
GNU assembler (GNU Binutils) 2.18.50.20070929
GNU gdb 6.7.50-20070929-cvs
GNU ld (GNU Binutils) 2.18.50.20070929
GNU Make 3.81
expect version 5.43.0
host gcc version: gcc (GCC) 4.3.0 20071005 (experimental) [trunk revision 129039]
LAST_UPDATED: Fri Oct 5 22:03:27 UTC 2007 (revision 129040)
Target is mips-unknown-elf
Host is x86_64-unknown-linux-gnu
=== gcc tests ===
Running target mips-sim
UNRESOLVED: gcc.c-torture/execute/mayalias-2.c execution, -O3 -g
XPASS: gcc.dg/tree-ssa/20040204-1.c scan-tree-dump-times link_error 0
=== gcc Summary ===
# of expected passes 40618
# of unexpected successes 1
# of expected failures 78
# of unresolved testcases 1
# of untested testcases 28
# of unsupported tests 374
/home/mstein/sim/mips-elf/build/gcc/xgcc version 4.2.2 20071005 (prerelease)
Compiler version: 4.2.2 20071005 (prerelease) gcc
Platform: mips-unknown-elf
configure flags: --target=mips-elf --prefix=/n/11/mstein/cross-local/mips-elf --disable-nls --disable-build-warnings --with-ld=/n/11/mstein/cross-local/mips-elf/bin/mips-elf-ld --with-as=/n/11/mstein/cross-local/mips-elf/bin/mips-elf-as --disable-libssp --enable-languages=c
More information about the Gcc-testresults
mailing list