Results for 4.2.1 20070518 (prerelease) gcc testsuite on mips-unknown-elf
mstein
mstein@phenix.rootshell.be
Sun May 20 05:04:00 GMT 2007
Ubuntu 5 on pentium3-smp
cross tool versions:
GNU assembler (GNU Binutils) 2.17.50.20070513
GNU gdb 6.6.50.20070513-cvs
GNU ld (GNU Binutils) 2.17.50.20070513
GNU Make 3.80
expect version 5.42.1
host gcc version: gcc (GCC) 4.3.0 20070518 (experimental)
LAST_UPDATED: Fri May 18 22:05:41 UTC 2007 (revision 124836)
Target is mips-unknown-elf
Host is i686-pc-linux-gnu
=== gcc tests ===
Running target mips-sim
UNRESOLVED: gcc.c-torture/execute/mayalias-2.c execution, -O3 -g
XPASS: gcc.dg/tree-ssa/20040204-1.c scan-tree-dump-times link_error 0
=== gcc Summary ===
# of expected passes 40459
# of unexpected successes 1
# of expected failures 78
# of unresolved testcases 1
# of untested testcases 28
# of unsupported tests 373
/mnt/disk01-2/mstein/sim/mips-elf/build/gcc/xgcc version 4.2.1 20070518 (prerelease)
Compiler version: 4.2.1 20070518 (prerelease) gcc
Platform: mips-unknown-elf
configure flags: --target=mips-elf --prefix=/n/07/mstein/cross-local/mips-elf --disable-nls --disable-build-warnings --with-ld=/n/07/mstein/cross-local/mips-elf/bin/mips-elf-ld --with-as=/n/07/mstein/cross-local/mips-elf/bin/mips-elf-as --disable-libssp --enable-languages=c
More information about the Gcc-testresults
mailing list