Results for 4.2.0 testsuite on i686-pc-linux-gnu

Greg Schafer gschafer@zip.com.au
Tue May 15 01:05:00 GMT 2007


This is using the GCC 4.2.0 Release tarball and is based on the
DIY Linux Reference Build recipe from:

  http://www.diy-linux.org/

Using these packages:

HJL binutils-2.17.50.0.16
glibc-2.5

Running under a 2.6.21 kernel.

LAST_UPDATED: Obtained from SVN: tags/gcc_4_2_0_release revision 124707

Native configuration is i686-pc-linux-gnu

		=== g++ tests ===


Running target unix
XPASS: g++.dg/tree-ssa/ivopts-1.C scan-tree-dump-not offset: -4B
XPASS: g++.dg/tree-ssa/ivopts-1.C scan-tree-dump-not &x\\[5\\]

		=== g++ Summary ===

# of expected passes		13438
# of unexpected successes	2
# of expected failures		66
# of unsupported tests		74
/temptools/src/gcc-build/gcc/testsuite/g++/../../g++  version 4.2.0

		=== gcc tests ===


Running target unix
UNRESOLVED: gcc.c-torture/execute/mayalias-2.c execution,  -O3 -g 

		=== gcc Summary ===

# of expected passes		42050
# of expected failures		116
# of unresolved testcases	1
# of untested testcases		28
# of unsupported tests		292
/temptools/src/gcc-build/gcc/xgcc  version 4.2.0

		=== libgomp tests ===


Running target unix

		=== libgomp Summary ===

# of expected passes		488
		=== libmudflap tests ===


Running target unix

		=== libmudflap Summary ===

# of expected passes		1814
		=== libstdc++ tests ===


Running target unix
XPASS: 26_numerics/cmath/c99_classification_macros_c.cc (test for excess errors)

		=== libstdc++ Summary ===

# of expected passes		3842
# of unexpected successes	1
# of expected failures		15
# of unsupported tests		316

Compiler version: 4.2.0 
Platform: i686-pc-linux-gnu
configure flags: --libexecdir=/usr/lib --enable-shared --disable-multilib --disable-bootstrap --enable-clocale=gnu --enable-threads=posix --enable-__cxa_atexit --enable-languages=c,c++



More information about the Gcc-testresults mailing list