Results for 4.1.2 20070116 (prerelease) testsuite on hppa64-hp-hpux11.11
John David Anglin
dave@hiauly3.hia.nrc.ca
Tue Jan 16 22:51:00 GMT 2007
LAST_UPDATED: Tue Jan 16 00:32:08 UTC 2007 (revision 120814)
Native configuration is hppa64-hp-hpux11.11
=== g++ tests ===
Running target unix
XPASS: g++.dg/tree-ssa/pr14814.C scan-tree-dump-times &this 0
=== g++ Summary ===
# of expected passes 11691
# of unexpected successes 1
# of expected failures 67
# of unsupported tests 132
/mnt/gnu/gcc/objdir/gcc/testsuite/g++/../../g++ version 4.1.2 20070116 (prerelease)
=== gcc tests ===
Running target unix
XPASS: gcc.dg/cpp/cmdlne-dI-M.c scan-file (^|\\\\n)cmdlne-dI-M.*:[^\\\\n]*cmdlne-dI-M.c
XPASS: gcc.dg/cpp/cmdlne-dM-M.c scan-file (^|\\\\n)cmdlne-dM-M[^\\\\n]*:[^\\\\n]*cmdlne-dM-M.c
XPASS: gcc.dg/funcorder.c scan-assembler-not link_error,%r
=== gcc Summary ===
# of expected passes 37089
# of unexpected successes 3
# of expected failures 77
# of untested testcases 28
# of unsupported tests 371
/mnt/gnu/gcc/objdir/gcc/xgcc version 4.1.2 20070116 (prerelease)
=== gfortran tests ===
Running target unix
=== gfortran Summary ===
# of expected passes 13396
# of expected failures 4
# of unsupported tests 90
/mnt/gnu/gcc/objdir/gcc/testsuite/gfortran/../../gfortran version 4.1.2 20070116 (prerelease)
=== objc tests ===
Running target unix
=== objc Summary ===
# of expected passes 1690
# of unsupported tests 23
/mnt/gnu/gcc/objdir/gcc/xgcc version 4.1.2 20070116 (prerelease)
=== libstdc++ tests ===
Running target unix
=== libstdc++ Summary ===
# of expected passes 3370
# of expected failures 12
# of unsupported tests 338
Compiler version: 4.1.2 20070116 (prerelease)
Platform: hppa64-hp-hpux11.11
configure flags: --with-gnu-as --with-as=/opt/gnu64/bin/as --with-ld=/usr/ccs/bin/ld --enable-shared --with-local-prefix=/opt/gnu64 --prefix=/opt/gnu64/gcc/gcc-4.1.2 --host=hppa64-hp-hpux11.11 --enable-threads=posix --disable-nls --with-gmp=/opt/gnu64/gcc/gcc-4.1.2 --enable-languages=c,c++,fortran,java,objc
More information about the Gcc-testresults
mailing list