Results for 4.1.2 20070209 (prerelease) testsuite on i686-pc-linux-gnu
Joe Buck
Joe.Buck@synopsys.com
Sat Feb 10 06:17:00 GMT 2007
This is a Red Hat Enterprise (GNU/)Linux WS release 3 system
(yes, horribly old) running on a dual 2.2 GHz Intel Xeon system.
boot compiler: gcc 3.4.2
kernel: 2.4.21-32.EL (from Red Hat)
glibc: 2.3.2-95.33 (from Red Hat)
binutils: 2.17 (FSF release)
MPFR: 2.2.1
All languages were tested.
LAST_UPDATED: Obtained from SVN: branches/gcc-4_1-branch revision 121738
Native configuration is i686-pc-linux-gnu
=== gcc tests ===
Running target unix
=== gcc Summary ===
# of expected passes 38985
# of expected failures 101
# of untested testcases 28
# of unsupported tests 246
/remote/atg5/jbuck/gcc-4.1.2-pre-linux86/gcc/xgcc version 4.1.2 20070209 (prerelease)
=== gfortran tests ===
Running target unix
=== gfortran Summary ===
# of expected passes 13606
# of expected failures 13
# of unsupported tests 16
/remote/atg5/jbuck/gcc-4.1.2-pre-linux86/gcc/testsuite/gfortran/../../gfortran version 4.1.2 20070209 (prerelease)
=== g++ tests ===
Running target unix
XPASS: g++.dg/tree-ssa/pr14814.C scan-tree-dump-times &this 0
=== g++ Summary ===
# of expected passes 12435
# of unexpected successes 1
# of expected failures 67
# of unsupported tests 69
/remote/atg5/jbuck/gcc-4.1.2-pre-linux86/gcc/testsuite/g++/../../g++ version 4.1.2 20070209 (prerelease)
=== objc tests ===
Running target unix
=== objc Summary ===
# of expected passes 1722
# of unsupported tests 22
/remote/atg5/jbuck/gcc-4.1.2-pre-linux86/gcc/xgcc version 4.1.2 20070209 (prerelease)
=== libffi tests ===
Running target unix
=== libffi Summary ===
# of expected passes 228
# of unsupported tests 2
=== libjava tests ===
Running target unix
=== libjava Summary ===
# of expected passes 4060
# of expected failures 10
# of untested testcases 8
=== libmudflap tests ===
Running target unix
=== libmudflap Summary ===
# of expected passes 1799
=== libstdc++ tests ===
Running target unix
XPASS: 26_numerics/cmath/c99_classification_macros_c.cc (test for excess errors)
=== libstdc++ Summary ===
# of expected passes 1593
# of unexpected successes 1
# of expected failures 6
# of unsupported tests 8
Compiler version: 4.1.2 20070209 (prerelease)
Platform: i686-pc-linux-gnu
configure flags: --prefix=/usr/localdisk/gcc-cvs/4.1.2-pre --with-gnu-as --with-as=/remote/atg5/jbuck/binutils-2.17-linux/bin/as --with-gnu-ld --with-ld=/remote/atg5/jbuck/binutils-2.17-linux/bin/ld --with-mpfr=/remote/atg5/jbuck/mpfr-linux --enable-languages=c,c++,fortran,java,objc
More information about the Gcc-testresults
mailing list