Results for 4.1.1 testsuite on sparc-sun-solaris2.8
Nathan Smith
nate@netapp.com
Fri Sep 22 02:11:00 GMT 2006
sparc-sun-solaris2.8
SunOS 5.8 Generic_108528-29 sun4u sparc SUNW,Sun-Fire-V210
sparc-sun-solaris8, Sun-Fire-V210, 2xCPU, 1336MHz, 4096MB
configure options: --prefix=/usr/software --program-suffix=-4.1.1 --enable-languages=c,c++
Bootstrapped with gcc-4.1.1:
Using built-in specs.
Target: sparc-sun-solaris2.8
Configured with: /usr/software/src/gcc-4.1.1/configure --prefix=/usr/software --program-suffix=-4.1.1 --enable-languages=c,c++ --enable-shared
Thread model: posix
gcc version 4.1.1
LAST_UPDATED: Obtained from SVN: tags/gcc_4_1_1_release revision 114100
Native configuration is sparc-sun-solaris2.8
=== g++ tests ===
Running target unix
WARNING: g++.dg/other/ucnid-1.C compilation failed to produce executable
XPASS: g++.dg/tree-ssa/pr14814.C scan-tree-dump-times &this 0
=== g++ Summary ===
# of expected passes 11920
# of unexpected successes 1
# of expected failures 69
# of unsupported tests 141
/usr/software/src/objdir-gcc-4.1.1-sysdisk-cc-onlyc-cpp-selfhost/gcc/testsuite/g++/../../g++ version 4.1.1
=== gcc tests ===
Running target unix
WARNING: gcc.dg/ucnid-2.c compilation failed to produce executable
WARNING: gcc.dg/ucnid-3.c compilation failed to produce executable
WARNING: gcc.dg/ucnid-4.c compilation failed to produce executable
XPASS: gcc.dg/vect/pr20122.c scan-tree-dump-times vectorized 1 loops 2
XPASS: gcc.dg/vect/vect-105.c scan-tree-dump-times vectorized 1 loops 1
XPASS: gcc.dg/vect/vect-75.c scan-tree-dump-times vectorized 1 loops 1
=== gcc Summary ===
# of expected passes 37454
# of unexpected successes 3
# of expected failures 110
# of untested testcases 28
# of unsupported tests 410
/usr/software/src/objdir-gcc-4.1.1-sysdisk-cc-onlyc-cpp-selfhost/gcc/xgcc version 4.1.1
=== libstdc++ tests ===
Running target unix
=== libstdc++ Summary ===
# of expected passes 3398
# of expected failures 14
# of unsupported tests 321
Compiler version: 4.1.1
Platform: sparc-sun-solaris2.8
configure flags: --prefix=/usr/software --program-suffix=-4.1.1 --enable-languages=c,c++
More information about the Gcc-testresults
mailing list